Workbook

Sheet 假设
A1: 佳力图投资渠道商 · 收益测算假设
A2: 单位：人民币万元。蓝色+黄底为输入；其余为公式。不构成收益承诺。
A4: 一、交易与税率
A5: 项目 | B5: 取值 | C5: 单位 | D5: 说明
A6: 出资额 | B6: 1500 | C6: 万元 | D6: 启动轮现金增资
A7: 投后持股 | B7: 0.075 | C7: % | D7: 投后估值 2 亿元
A8: 企业所得税率 | B8: 0.25 | C8: % | D8: 增量经营利润
A9: 自产占通道年单 | B9: 0.38 | C9: % | D9: 第 3 年取值；逐年见第 41 行
A10: 自产贡献利润率 | B10: 0.18 | C10: % | D10: 综合参考；协同利润改按产品线毛利
A11: 自营贡献利润率 | B11: 0.24 | C11: % | D11: 海外自营可归因切片
A12: 运营服务费率 | B12: 0.03 | C12: % | D12: 按自营回款计，有回款才计
A14: 二、情景系数（相对基准）
A15: 项目 | B15: 审慎 | C15: 基准 | D15: 乐观
A16: 通道年单倍数 | B16: 0.45 | C16: 1 | D16: 1.7
A17: 海外自营倍数 | B17: 0.6 | C17: 1 | D17: 1.7
A19: 三、基准通道系统年单（与全球战略海湾规模对齐）
A20: 海湾约占海外 42%。通道捕获随年框上升。第 3 年即锁定年框，不是 8 年合计。第 6–8 年按海湾温控市场约 18% 扩张续写，不再人为压低增速。
A21: 项目 | B21: 第 1 年 | C21: 第 2 年 | D21: 第 3 年 | E21: 第 4 年 | F21: 第 5 年 | G21: 第 6 年 | H21: 第 7 年 | I21: 第 8 年 | J21: 合计
A22: 通道系统年单 | B22: 3300 | C22: 13300 | D22: 24600 | E22: 33500 | F22: 42300 | G22: 50000 | H22: 58000 | I22: 66000 | J22: =SUM(B22:I22) -> 291000
A23: 海外自营切片 | B23: 500 | C23: 2200 | D23: 4200 | E23: 6400 | F23: 8600 | G23: 10200 | H23: 11800 | I23: 13400 | J23: =SUM(B23:I23) -> 57300
A24: 团队费用 | B24: 280 | C24: 350 | D24: 420 | E24: 500 | F24: 580 | G24: 640 | H24: 700 | I24: 760 | J24: =SUM(B24:I24) -> 4230
A25: 市场与认证 | B25: 150 | C25: 200 | D25: 260 | E25: 320 | F25: 380 | G25: 420 | H25: 460 | I25: 500 | J25: =SUM(B25:I25) -> 2690
A27: 四、财务投资税后现金流（来自渠道商经营模型，本表不重算其内部账）
A28: 情景 | B28: 第 0 年 | C28: 第 1 年 | D28: 第 2 年 | E28: 第 3 年 | F28: 第 4 年 | G28: 第 5 年 | H28: 第 6 年 | I28: 第 7 年 | J28: 第 8 年 | K28: 合计
A29: 审慎 | B29: -1500 | C29: 150 | D29: 490 | E29: 860 | F29: 60 | G29: 62 | H29: 62 | I29: 62 | J29: 2943 | K29: =SUM(B29:J29) -> 3189
A30: 基准 | B30: -1500 | C30: 281 | D30: 782 | E30: 438 | F30: 78 | G30: 115 | H30: 3644 | I30: 0 | J30: 0 | K30: =SUM(B30:J30) -> 3838
A31: 乐观 | B31: -1500 | C31: 850 | D31: 650 | E31: 20 | F31: 40 | G31: 4123 | H31: 0 | I31: 0 | J31: 0 | K31: =SUM(B31:J31) -> 4183
A33: 口径说明
A34: 1. 通道年单 = 经该渠道进入海湾机房的系统交付合同额。 2. 第 3 年锁定年框取通道年单（基准 2.46 亿元），不是 8 年累计。 3. 协同利润按产品线贡献利润率：精密空调、液冷、冷站分列；不按年单全额毛利，系统集成不计入协同毛利。 4. 自产占比随液冷与冷站提升，由第 1 年 34% 升至第 5 年 42%；第 3 年仍为 38%。 5. 海外自营切片小于全球战略全额海外营收。财务投资现金流不重算。 6. 销售结构已按国际在位商压房间级、国内同业已出海、液冷份额上升重切。改份额只改「年单明细」E/F；改产品结构只改「产品结构」；改市场只改「市场与对标」。
A39: 7. 拆分见「年单明细」「按渠道」「按场景」「按客户」「产品结构」「按产品线」「销售测算」。
A41: 五、按市场与对标校准后的产品贡献利润率、自产占比
A42: 项目 | B42: 取值 | C42: 单位 | D42: 说明
A43: 精密空调贡献利润率 | B43: 0.16 | C43: % | D43: 海湾房间级仍由国际在位商压价
A44: 液冷贡献利润率 | B44: 0.22 | C44: % | D44: 高密机柜切换窗口，国内同业境外毛利显著高于境内
A45: 智能冷站贡献利润率 | B45: 0.18 | C45: % | D45: 预制入口，介于精密空调与液冷之间
A47: 自产占通道年单（逐年）
A48: 项目 | B48: 第 1 年 | C48: 第 2 年 | D48: 第 3 年 | E48: 第 4 年 | F48: 第 5 年 | G48: 第 6 年 | H48: 第 7 年 | I48: 第 8 年
A49: 自产占比 | B49: 0.34 | C49: 0.36 | D49: 0.38 | E49: 0.4 | F49: 0.42 | G49: 0.43 | H49: 0.44 | I49: 0.44
A50: 第 3 年核对（应对齐 B9） | B50: =D49 -> 0.38 | C50: =IF(ABS(D49-B9)<0.001,"齐","与 B9 不一致") -> 齐

Sheet 市场与对标
A1: 国际市场与同业对标（测算口径，不写入对外文本）
A2: 黄底为输入。海湾温控市场按美元口径折人民币。国内同业海外已形成规模、境外毛利高于境内；国际在位商仍主导房间级与顾问指定。本表只校准结构与市占，不把市场总额 1:1 写入投资 IRR。
A4: 一、海湾数据中心温控市场（万元）
A5: 项目 | B5: 第 1 年 | C5: 第 2 年 | D5: 第 3 年 | E5: 第 4 年 | F5: 第 5 年 | G5: 第 6 年 | H5: 第 7 年 | I5: 第 8 年 | J5: 说明
A6: 海湾温控市场 | B6: 316800 | C6: 375091 | D6: 444108 | E6: 525824 | F6: 622575 | G6: 737129 | H6: 872761 | I6: 1033349 | J6: 约数；液冷份额单独下行
A7: 其中液冷份额 | B7: 0.12 | C7: 0.15 | D7: 0.18 | E7: 0.21 | F7: 0.24 | G7: 0.26 | H7: 0.28 | I7: 0.3
A8: 液冷市场 | B8: =B6*B7 -> 38016 | C8: =C6*C7 -> 56263.65 | D8: =D6*D7 -> 79939.44 | E8: =E6*E7 -> 110423.04 | F8: =F6*F7 -> 149418 | G8: =G6*G7 -> 191653.54 | H8: =H6*H7 -> 244373.08 | I8: =I6*I7 -> 310004.7
A9: 通道系统年单 | B9: =通道年单!B5 -> 3300 | C9: =通道年单!C5 -> 13300 | D9: =通道年单!D5 -> 24600 | E9: =通道年单!E5 -> 33500 | F9: =通道年单!F5 -> 42300 | G9: =通道年单!G5 -> 50000 | H9: =通道年单!H5 -> 58000 | I9: =通道年单!I5 -> 66000
A10: 占海湾温控市场 | B10: =IF(B6=0,0,B9/B6) -> 0.010416667 | C10: =IF(C6=0,0,C9/C6) -> 0.035458062 | D10: =IF(D6=0,0,D9/D6) -> 0.055391932 | E10: =IF(E6=0,0,E9/E6) -> 0.06370953 | F10: =IF(F6=0,0,F9/F6) -> 0.067943621 | G10: =IF(G6=0,0,G9/G6) -> 0.067830732 | H10: =IF(H6=0,0,H9/H6) -> 0.066455765 | I10: =IF(I6=0,0,I9/I6) -> 0.063869999
A11: 通道自产温控 | B11: =按产品线!B9 -> 1124 | C11: =按产品线!C9 -> 4788 | D11: =按产品线!D9 -> 9350 | E11: =按产品线!E9 -> 13400 | F11: =按产品线!F9 -> 17765 | G11: =按产品线!G9 -> 21498 | H11: =按产品线!H9 -> 25519 | I11: =按产品线!I9 -> 29039
A12: 自产占海湾温控市场 | B12: =IF(B6=0,0,B11/B6) -> 0.0035479798 | C12: =IF(C6=0,0,C11/C6) -> 0.012764902 | D12: =IF(D6=0,0,D11/D6) -> 0.021053437 | E12: =IF(E6=0,0,E11/E6) -> 0.025483812 | F12: =IF(F6=0,0,F11/F6) -> 0.028534715 | G12: =IF(G6=0,0,G11/G6) -> 0.029164502 | H12: =IF(H6=0,0,H11/H6) -> 0.029239391 | I12: =IF(I6=0,0,I11/I6) -> 0.028101832
A14: 二、同业海外已实现（最近一年，万元）
A15: 对标对象 | B15: 海外营收 | C15: 海外占比 | D15: 对佳力图的含义
A16: 国内同业 · 规模领先（直销为主） | B16: 84900 | C16: 0.14 | D16: 海外已近 8.5 亿元、境外毛利高于境内；佳力图第 5 年自产出口规划仍低于该水平
A17: 国内同业 · 数据中心设备 | B17: 14400 | C17: 0.034 | D17: 海外从低基数快增，东南亚与北美均有突破
A18: 国内同业 · 东南亚订单 | B18: 10000 | C18: 0.069 | D18: 海外订单已过 2 亿元，马来西亚、泰国落地；自营切片应对齐东南亚液冷
A19: 佳力图（最近一年） | B19: 900 | C19: 0.012 | D19: 境外约 1%，结构以传统风冷为主，毛利承压大于同业
A20: 三、竞争站位（对测算的约束）
A21: 1. 海湾房间级与顾问目录仍由国际在位系统商主导，精密空调不按份额扩张，贡献利润率低于液冷。 2. 液冷与集装箱／预制冷站是可切入窗口：高密机柜、节水与高温工况改变指定习惯。 3. 国内同业已用直销＋属地伙伴拿下东南亚，并以储能高温机组试探海湾；佳力图用少数股权换年框，补的是通道而不是再铺直销网。 4. 同业海外毛利高于国内，但佳力图协同利润仍只计自产与自营切片，系统集成不进毛利，避免把合同额做成 IRR。 5. 第 3 年通道年框 2.46 亿元、自产约 0.9 亿元，占海湾温控市场约 5%／2%，低于国际在位商，可执行。

Sheet 销售测算
A1: 销售测算（基准）· 市占、产品线、客户与回款
A2: 金额万元。第 3 年列为锁定年框。产品线来自「按产品线」；市场来自「市场与对标」。财务利润见「协同利润」「综合收益」。
A4: 一、通道销售与市占
A5: 项目 | B5: 第 1 年 | C5: 第 2 年 | D5: 第 3 年 | E5: 第 4 年 | F5: 第 5 年 | G5: 第 6 年 | H5: 第 7 年 | I5: 第 8 年 | J5: 8 年累计 | K5: 第 3 年
A6: 海湾温控市场 | B6: =市场与对标!B6 -> 316800 | C6: =市场与对标!C6 -> 375091 | D6: =市场与对标!D6 -> 444108 | E6: =市场与对标!E6 -> 525824 | F6: =市场与对标!F6 -> 622575 | G6: =市场与对标!G6 -> 737129 | H6: =市场与对标!H6 -> 872761 | I6: =市场与对标!I6 -> 1033349 | J6: =SUM(B6:I6) -> 4927637 | K6: =D6 -> 444108
A7: 通道系统年单 | B7: =通道年单!B5 -> 3300 | C7: =通道年单!C5 -> 13300 | D7: =通道年单!D5 -> 24600 | E7: =通道年单!E5 -> 33500 | F7: =通道年单!F5 -> 42300 | G7: =通道年单!G5 -> 50000 | H7: =通道年单!H5 -> 58000 | I7: =通道年单!I5 -> 66000 | J7: =SUM(B7:I7) -> 291000 | K7: =D7 -> 24600
A8: 占海湾温控市场 | B8: =IF(B6=0,0,B7/B6) -> 0.010416667 | C8: =IF(C6=0,0,C7/C6) -> 0.035458062 | D8: =IF(D6=0,0,D7/D6) -> 0.055391932 | E8: =IF(E6=0,0,E7/E6) -> 0.06370953 | F8: =IF(F6=0,0,F7/F6) -> 0.067943621 | G8: =IF(G6=0,0,G7/G6) -> 0.067830732 | H8: =IF(H6=0,0,H7/H6) -> 0.066455765 | I8: =IF(I6=0,0,I7/I6) -> 0.063869999 | K8: =D8 -> 0.055391932
A9: 通道自产温控 | B9: =按产品线!B9 -> 1124 | C9: =按产品线!C9 -> 4788 | D9: =按产品线!D9 -> 9350 | E9: =按产品线!E9 -> 13400 | F9: =按产品线!F9 -> 17765 | G9: =按产品线!G9 -> 21498 | H9: =按产品线!H9 -> 25519 | I9: =按产品线!I9 -> 29039 | J9: =SUM(B9:I9) -> 122483 | K9: =D9 -> 9350
A10: 系统集成供货 | B10: =按产品线!B13 -> 2176 | C10: =按产品线!C13 -> 8512 | D10: =按产品线!D13 -> 15250 | E10: =按产品线!E13 -> 20100 | F10: =按产品线!F13 -> 24535 | G10: =按产品线!G13 -> 28502 | H10: =按产品线!H13 -> 32481 | I10: =按产品线!I13 -> 36961 | J10: =SUM(B10:I10) -> 168517 | K10: =D10 -> 15250
A11: 海外自营切片 | B11: =按产品线!B21 -> 502 | C11: =按产品线!C21 -> 2199 | D11: =按产品线!D21 -> 4197 | E11: =按产品线!E21 -> 6397 | F11: =按产品线!F21 -> 8603 | G11: =按产品线!G21 -> 10200 | H11: =按产品线!H21 -> 11799 | I11: =按产品线!I21 -> 13402 | J11: =SUM(B11:I11) -> 57299 | K11: =D11 -> 4197
A12: 佳力图产品收入（自产+自营） | B12: =按产品线!B29 -> 1626 | C12: =按产品线!C29 -> 6987 | D12: =按产品线!D29 -> 13547 | E12: =按产品线!E29 -> 19797 | F12: =按产品线!F29 -> 26368 | G12: =按产品线!G29 -> 31698 | H12: =按产品线!H29 -> 37318 | I12: =按产品线!I29 -> 42441 | J12: =SUM(B12:I12) -> 179782 | K12: =D12 -> 13547
A14: 二、佳力图产品线销售（通道自产 + 海外自营）
A15: 产品线 | B15: 第 1 年 | C15: 第 2 年 | D15: 第 3 年 | E15: 第 4 年 | F15: 第 5 年 | G15: 第 6 年 | H15: 第 7 年 | I15: 第 8 年 | J15: 8 年累计 | K15: 第 3 年占比
A16: 精密空调 | B16: =按产品线!B26 -> 648 | C16: =按产品线!C26 -> 2783 | D16: =按产品线!D26 -> 4392 | E16: =按产品线!E26 -> 6425 | F16: =按产品线!F26 -> 8560 | G16: =按产品线!G26 -> 10287 | H16: =按产品线!H26 -> 12107 | I16: =按产品线!I26 -> 13768 | J16: =SUM(B16:I16) -> 58970 | K16: =IF($D$19=0,0,D16/$D$19) -> 0.32420462
A17: 液冷 | B17: =按产品线!B27 -> 615 | C17: =按产品线!C27 -> 2647 | D17: =按产品线!D27 -> 6039 | E17: =按产品线!E27 -> 8811 | F17: =按产品线!F27 -> 11731 | G17: =按产品线!G27 -> 14110 | H17: =按产品线!H27 -> 16622 | I17: =按产品线!I27 -> 18905 | J17: =SUM(B17:I17) -> 79480 | K17: =IF($D$19=0,0,D17/$D$19) -> 0.44578135
A18: 智能冷站与微模块 | B18: =按产品线!B28 -> 363 | C18: =按产品线!C28 -> 1557 | D18: =按产品线!D28 -> 3116 | E18: =按产品线!E28 -> 4561 | F18: =按产品线!F28 -> 6077 | G18: =按产品线!G28 -> 7301 | H18: =按产品线!H28 -> 8589 | I18: =按产品线!I28 -> 9768 | J18: =SUM(B18:I18) -> 41332 | K18: =IF($D$19=0,0,D18/$D$19) -> 0.23001403
A19: 合计 | B19: =SUM(B16:B18) -> 1626 | C19: =SUM(C16:C18) -> 6987 | D19: =SUM(D16:D18) -> 13547 | E19: =SUM(E16:E18) -> 19797 | F19: =SUM(F16:F18) -> 26368 | G19: =SUM(G16:G18) -> 31698 | H19: =SUM(H16:H18) -> 37318 | I19: =SUM(I16:I18) -> 42441 | J19: =SUM(J16:J18) -> 179782 | K19: =1 -> 1
A21: 三、回款与营运资金（不进 IRR，只约束现金）
A22: 项目 | B22: 取值 | C22: 单位 | D22: 说明
A23: 开发商年框预收／里程碑 | B23: 0.35 | C23: % | D23: 首期覆盖设备与海运，其余按节点
A24: 工程总承包方账期 | B24: 90 | C24: 天 | D24: 不长于国际在位商常见工程账期
A25: 埃及／北非结算 | B25: 预付或信用证 | C25: — | D25: 不与海湾同一账期
A26: 营运资金占用率（通道年单） | B26: 0.12 | C26: % | D26: 集成过手放大应收；低于战略规划第 5 年全盘 3.36 亿约束
A27: 通道营运资金（逐年）
A28: 项目 | B28: 第 1 年 | C28: 第 2 年 | D28: 第 3 年 | E28: 第 4 年 | F28: 第 5 年 | G28: 第 6 年 | H28: 第 7 年 | I28: 第 8 年
A29: 占用 | B29: =ROUND(通道年单!B5*$B$26,0) -> 396 | C29: =ROUND(通道年单!C5*$B$26,0) -> 1596 | D29: =ROUND(通道年单!D5*$B$26,0) -> 2952 | E29: =ROUND(通道年单!E5*$B$26,0) -> 4020 | F29: =ROUND(通道年单!F5*$B$26,0) -> 5076 | G29: =ROUND(通道年单!G5*$B$26,0) -> 6000 | H29: =ROUND(通道年单!H5*$B$26,0) -> 6960 | I29: =ROUND(通道年单!I5*$B$26,0) -> 7920
A30: 当年增量 | B30: =B29 -> 396 | C30: =C29-B29 -> 1200 | D30: =D29-C29 -> 1356 | E30: =E29-D29 -> 1068 | F30: =F29-E29 -> 1056 | G30: =G29-F29 -> 924 | H30: =H29-G29 -> 960 | I30: =I29-H29 -> 960
A32: 四、与同业对照（第 5 年）
A33: 项目 | B33: 金额 | C33: 对照
A34: 通道自产第 5 年 | B34: =F9 -> 17765 | C34: 低于国内同业已实现海外营收（市场与对标!B16）
A35: 佳力图产品第 5 年（自产+自营） | B35: =F12 -> 26368 | C35: 仍低于规模领先同业最近一年海外
A36: 全球战略第 5 年自产出口上限 | B36: 62000 | C36: 通道自产须落在此上限之内
A37: 通道自产 / 自产出口上限 | B37: =IF(B36=0,0,B34/B36) -> 0.28653226 | C37: 通道只切海湾一截，不吃掉全部出口规划
A39: 精密空调不按市占扩张。液冷与冷站抬升自产占比和贡献利润。系统集成做合同额、不做毛利。

Sheet 通道年单
A1: 通道系统年单（合同额）
A2: 第 3 年一列为「锁定年框」。8 年累计见最右列。审慎/乐观 = 基准 × 假设!B16/D16。
A4: 项目 | B4: 第 1 年 | C4: 第 2 年 | D4: 第 3 年 | E4: 第 4 年 | F4: 第 5 年 | G4: 第 6 年 | H4: 第 7 年 | I4: 第 8 年 | J4: 8 年累计
A5: 基准 · 通道年单 | B5: =假设!B22 -> 3300 | C5: =假设!C22 -> 13300 | D5: =假设!D22 -> 24600 | E5: =假设!E22 -> 33500 | F5: =假设!F22 -> 42300 | G5: =假设!G22 -> 50000 | H5: =假设!H22 -> 58000 | I5: =假设!I22 -> 66000 | J5: =SUM(B5:I5) -> 291000
A6: 审慎 · 通道年单 | B6: =B5*假设!$B$16 -> 1485 | C6: =C5*假设!$B$16 -> 5985 | D6: =D5*假设!$B$16 -> 11070 | E6: =E5*假设!$B$16 -> 15075 | F6: =F5*假设!$B$16 -> 19035 | G6: =G5*假设!$B$16 -> 22500 | H6: =H5*假设!$B$16 -> 26100 | I6: =I5*假设!$B$16 -> 29700 | J6: =SUM(B6:I6) -> 130950
A7: 乐观 · 通道年单 | B7: =B5*假设!$D$16 -> 5610 | C7: =C5*假设!$D$16 -> 22610 | D7: =D5*假设!$D$16 -> 41820 | E7: =E5*假设!$D$16 -> 56950 | F7: =F5*假设!$D$16 -> 71910 | G7: =G5*假设!$D$16 -> 85000 | H7: =H5*假设!$D$16 -> 98600 | I7: =I5*假设!$D$16 -> 112200 | J7: =SUM(B7:I7) -> 494700
A9: 其中自产温控（基准） | B9: =B5*假设!$B$9 -> 1254 | C9: =C5*假设!$B$9 -> 5054 | D9: =D5*假设!$B$9 -> 9348 | E9: =E5*假设!$B$9 -> 12730 | F9: =F5*假设!$B$9 -> 16074 | G9: =G5*假设!$B$9 -> 19000 | H9: =H5*假设!$B$9 -> 22040 | I9: =I5*假设!$B$9 -> 25080 | J9: =SUM(B9:I9) -> 110580
B10: 审慎 | C10: 基准 | D10: 乐观
A11: 第 3 年起年框（亿元） | B11: =D6/10000 -> 1.107 | C11: =D5/10000 -> 2.46 | D11: =D7/10000 -> 4.182
A13: 核对
A14: 基准 8 年累计（亿元） | B14: =J5/10000 -> 29.1
A15: 旧稿误写（亿元） | B15: 1.73 | C15: 旧小盘 8 年合计 17,280 万；不得再写入「锁定年框」。
A17: 结构拆分见「年单明细」「按渠道」「按场景」「按客户」「产品结构」「按产品线」。第 3 年列=锁定年框。

Sheet 年单明细
A1: 通道年单与海外自营 · 按渠道 × 场景 × 客户类型拆分
A2: 单位：人民币万元。蓝色+黄底为份额输入（前期=第 1–2 年，成熟=第 3–8 年）。客户列为采购方类型，不列具体总包或业主。通道行挂钩「通道年单」基准；自营行挂钩「假设」海外自营切片。改份额后三张透视表自动刷新。份额须各自加总为 100%。不构成收益承诺。
A4: 一、拆分明细（每行一条可执行组合）
A5: 来源 | B5: 渠道 | C5: 场景 | D5: 客户类型 | E5: 前期份额 | F5: 成熟份额 | G5: 说明 | H5: 第 1 年 | I5: 第 2 年 | J5: 第 3 年 | K5: 第 4 年 | L5: 第 5 年 | M5: 第 6 年 | N5: 第 7 年 | O5: 第 8 年 | P5: 8 年累计 | Q5: 第 3 年年框 | R5: 其中自产
A6: 通道 | B6: 工程集采年框 | C6: 高温智算液冷机房 | D6: 数据中心开发商 | E6: 0.1 | F6: 0.28 | G6: 智算年框：开发商指定液冷，国际在位商房间级优势较弱 | H6: =ROUND(通道年单!B5*E6,0) -> 330 | I6: =ROUND(通道年单!C5*E6,0) -> 1330 | J6: =ROUND(通道年单!D5*F6,0) -> 6888 | K6: =ROUND(通道年单!E5*F6,0) -> 9380 | L6: =ROUND(通道年单!F5*F6,0) -> 11844 | M6: =ROUND(通道年单!G5*F6,0) -> 14000 | N6: =ROUND(通道年单!H5*F6,0) -> 16240 | O6: =ROUND(通道年单!I5*F6,0) -> 18480 | P6: =SUM(H6:O6) -> 78492 | Q6: =J6 -> 6888 | R6: =ROUND(P6*假设!$B$9,0) -> 29827
A7: 通道 | B7: 工程集采年框 | C7: 新建数据中心精密空调 | D7: 数据中心开发商 | E7: 0.06 | F7: 0.1 | G7: 同名录续签房间级／列间 | H7: =ROUND(通道年单!B5*E7,0) -> 198 | I7: =ROUND(通道年单!C5*E7,0) -> 798 | J7: =ROUND(通道年单!D5*F7,0) -> 2460 | K7: =ROUND(通道年单!E5*F7,0) -> 3350 | L7: =ROUND(通道年单!F5*F7,0) -> 4230 | M7: =ROUND(通道年单!G5*F7,0) -> 5000 | N7: =ROUND(通道年单!H5*F7,0) -> 5800 | O7: =ROUND(通道年单!I5*F7,0) -> 6600 | P7: =SUM(H7:O7) -> 28436 | Q7: =J7 -> 2460 | R7: =ROUND(P7*假设!$B$9,0) -> 10806
A8: 通道 | B8: 工程集采年框 | C8: 商业综合体机房 | D8: 工程总承包方 | E8: 0.04 | F8: 0.05 | G8: 总包集采清单内的机房段 | H8: =ROUND(通道年单!B5*E8,0) -> 132 | I8: =ROUND(通道年单!C5*E8,0) -> 532 | J8: =ROUND(通道年单!D5*F8,0) -> 1230 | K8: =ROUND(通道年单!E5*F8,0) -> 1675 | L8: =ROUND(通道年单!F5*F8,0) -> 2115 | M8: =ROUND(通道年单!G5*F8,0) -> 2500 | N8: =ROUND(通道年单!H5*F8,0) -> 2900 | O8: =ROUND(通道年单!I5*F8,0) -> 3300 | P8: =SUM(H8:O8) -> 14384 | Q8: =J8 -> 1230 | R8: =ROUND(P8*假设!$B$9,0) -> 5466
A9: 通道 | B9: 机电／数据中心工程代理 | C9: 高温智算液冷机房 | D9: 工程总承包方 | E9: 0.16 | F9: 0.14 | G9: 海湾机电代理带总包现场 | H9: =ROUND(通道年单!B5*E9,0) -> 528 | I9: =ROUND(通道年单!C5*E9,0) -> 2128 | J9: =ROUND(通道年单!D5*F9,0) -> 3444 | K9: =ROUND(通道年单!E5*F9,0) -> 4690 | L9: =ROUND(通道年单!F5*F9,0) -> 5922 | M9: =ROUND(通道年单!G5*F9,0) -> 7000 | N9: =ROUND(通道年单!H5*F9,0) -> 8120 | O9: =ROUND(通道年单!I5*F9,0) -> 9240 | P9: =SUM(H9:O9) -> 41072 | Q9: =J9 -> 3444 | R9: =ROUND(P9*假设!$B$9,0) -> 15607
A10: 通道 | B10: 机电／数据中心工程代理 | C10: 新建数据中心精密空调 | D10: 工程总承包方 | E10: 0.12 | F10: 0.08 | G10: 代理转总包采购 | H10: =ROUND(通道年单!B5*E10,0) -> 396 | I10: =ROUND(通道年单!C5*E10,0) -> 1596 | J10: =ROUND(通道年单!D5*F10,0) -> 1968 | K10: =ROUND(通道年单!E5*F10,0) -> 2680 | L10: =ROUND(通道年单!F5*F10,0) -> 3384 | M10: =ROUND(通道年单!G5*F10,0) -> 4000 | N10: =ROUND(通道年单!H5*F10,0) -> 4640 | O10: =ROUND(通道年单!I5*F10,0) -> 5280 | P10: =SUM(H10:O10) -> 23944 | Q10: =J10 -> 1968 | R10: =ROUND(P10*假设!$B$9,0) -> 9099
A11: 通道 | B11: 机电／数据中心工程代理 | C11: 集装箱液冷／预制冷站 | D11: 数据中心开发商 | E11: 0.1 | F11: 0.14 | G11: 集装箱液冷／预制冷站：单位项目价值高，作海湾入口 | H11: =ROUND(通道年单!B5*E11,0) -> 330 | I11: =ROUND(通道年单!C5*E11,0) -> 1330 | J11: =ROUND(通道年单!D5*F11,0) -> 3444 | K11: =ROUND(通道年单!E5*F11,0) -> 4690 | L11: =ROUND(通道年单!F5*F11,0) -> 5922 | M11: =ROUND(通道年单!G5*F11,0) -> 7000 | N11: =ROUND(通道年单!H5*F11,0) -> 8120 | O11: =ROUND(通道年单!I5*F11,0) -> 9240 | P11: =SUM(H11:O11) -> 40076 | Q11: =J11 -> 3444 | R11: =ROUND(P11*假设!$B$9,0) -> 15229
A12: 通道 | B12: 项目制投标 | C12: 新建数据中心精密空调 | D12: 工程总承包方 | E12: 0.16 | F12: 0.04 | G12: 前期以单项目验证交付 | H12: =ROUND(通道年单!B5*E12,0) -> 528 | I12: =ROUND(通道年单!C5*E12,0) -> 2128 | J12: =ROUND(通道年单!D5*F12,0) -> 984 | K12: =ROUND(通道年单!E5*F12,0) -> 1340 | L12: =ROUND(通道年单!F5*F12,0) -> 1692 | M12: =ROUND(通道年单!G5*F12,0) -> 2000 | N12: =ROUND(通道年单!H5*F12,0) -> 2320 | O12: =ROUND(通道年单!I5*F12,0) -> 2640 | P12: =SUM(H12:O12) -> 13632 | Q12: =J12 -> 984 | R12: =ROUND(P12*假设!$B$9,0) -> 5180
A13: 通道 | B13: 项目制投标 | C13: 产业园区标准机房 | D13: 产业园区开发商 | E13: 0.08 | F13: 0.04 | G13: 标准机复制，账期短于智算 | H13: =ROUND(通道年单!B5*E13,0) -> 264 | I13: =ROUND(通道年单!C5*E13,0) -> 1064 | J13: =ROUND(通道年单!D5*F13,0) -> 984 | K13: =ROUND(通道年单!E5*F13,0) -> 1340 | L13: =ROUND(通道年单!F5*F13,0) -> 1692 | M13: =ROUND(通道年单!G5*F13,0) -> 2000 | N13: =ROUND(通道年单!H5*F13,0) -> 2320 | O13: =ROUND(通道年单!I5*F13,0) -> 2640 | P13: =SUM(H13:O13) -> 12304 | Q13: =J13 -> 984 | R13: =ROUND(P13*假设!$B$9,0) -> 4676
A14: 通道 | B14: 项目制投标 | C14: 商业综合体机房 | D14: 工程总承包方 | E14: 0.06 | F14: 0.03 | G14: 综合体机电分包 | H14: =ROUND(通道年单!B5*E14,0) -> 198 | I14: =ROUND(通道年单!C5*E14,0) -> 798 | J14: =ROUND(通道年单!D5*F14,0) -> 738 | K14: =ROUND(通道年单!E5*F14,0) -> 1005 | L14: =ROUND(通道年单!F5*F14,0) -> 1269 | M14: =ROUND(通道年单!G5*F14,0) -> 1500 | N14: =ROUND(通道年单!H5*F14,0) -> 1740 | O14: =ROUND(通道年单!I5*F14,0) -> 1980 | P14: =SUM(H14:O14) -> 9228 | Q14: =J14 -> 738 | R14: =ROUND(P14*假设!$B$9,0) -> 3507
A15: 通道 | B15: 区域经销 | C15: 新建数据中心精密空调 | D15: 机电顾问／系统商 | E15: 0.12 | F15: 0.1 | G15: 顾问指定 CDU／列间后的经销出货，不靠零售 | H15: =ROUND(通道年单!B5*E15,0) -> 396 | I15: =ROUND(通道年单!C5*E15,0) -> 1596 | J15: =ROUND(通道年单!D5*F15,0) -> 2460 | K15: =ROUND(通道年单!E5*F15,0) -> 3350 | L15: =ROUND(通道年单!F5*F15,0) -> 4230 | M15: =ROUND(通道年单!G5*F15,0) -> 5000 | N15: =ROUND(通道年单!H5*F15,0) -> 5800 | O15: =ROUND(通道年单!I5*F15,0) -> 6600 | P15: =SUM(H15:O15) -> 29432 | Q15: =J15 -> 2460 | R15: =ROUND(P15*假设!$B$9,0) -> 11184
A16: 自营 | B16: 区域经销 | C16: 新建数据中心精密空调 | D16: 区域运营商 | E16: 0.18 | F16: 0.14 | G16: 东南亚调试伙伴带运营商 | H16: =ROUND(假设!B23*E16,0) -> 90 | I16: =ROUND(假设!C23*E16,0) -> 396 | J16: =ROUND(假设!D23*F16,0) -> 588 | K16: =ROUND(假设!E23*F16,0) -> 896 | L16: =ROUND(假设!F23*F16,0) -> 1204 | M16: =ROUND(假设!G23*F16,0) -> 1428 | N16: =ROUND(假设!H23*F16,0) -> 1652 | O16: =ROUND(假设!I23*F16,0) -> 1876 | P16: =SUM(H16:O16) -> 8130 | Q16: =J16 -> 588 | R16: =P16 -> 8130
A17: 自营 | B17: 区域经销 | C17: 产业园区标准机房 | D17: 产业园区开发商 | E17: 0.12 | F17: 0.08 | G17: 东南亚／中亚年框切片 | H17: =ROUND(假设!B23*E17,0) -> 60 | I17: =ROUND(假设!C23*E17,0) -> 264 | J17: =ROUND(假设!D23*F17,0) -> 336 | K17: =ROUND(假设!E23*F17,0) -> 512 | L17: =ROUND(假设!F23*F17,0) -> 688 | M17: =ROUND(假设!G23*F17,0) -> 816 | N17: =ROUND(假设!H23*F17,0) -> 944 | O17: =ROUND(假设!I23*F17,0) -> 1072 | P17: =SUM(H17:O17) -> 4692 | Q17: =J17 -> 336 | R17: =P17 -> 4692
A18: 自营 | B18: 系统商 OEM | C18: 集装箱液冷／预制冷站 | D18: 机电顾问／系统商 | E18: 0.18 | F18: 0.26 | G18: 东南亚／欧洲：国内同业已走系统商与属地伙伴，自营跟液冷 | H18: =ROUND(假设!B23*E18,0) -> 90 | I18: =ROUND(假设!C23*E18,0) -> 396 | J18: =ROUND(假设!D23*F18,0) -> 1092 | K18: =ROUND(假设!E23*F18,0) -> 1664 | L18: =ROUND(假设!F23*F18,0) -> 2236 | M18: =ROUND(假设!G23*F18,0) -> 2652 | N18: =ROUND(假设!H23*F18,0) -> 3068 | O18: =ROUND(假设!I23*F18,0) -> 3484 | P18: =SUM(H18:O18) -> 14682 | Q18: =J18 -> 1092 | R18: =P18 -> 14682
A19: 自营 | B19: 系统商 OEM | C19: 高温智算液冷机房 | D19: 机电顾问／系统商 | E19: 0.14 | F19: 0.22 | G19: 液冷与冷站先行，房间级不与国际在位商品牌硬拼 | H19: =ROUND(假设!B23*E19,0) -> 70 | I19: =ROUND(假设!C23*E19,0) -> 308 | J19: =ROUND(假设!D23*F19,0) -> 924 | K19: =ROUND(假设!E23*F19,0) -> 1408 | L19: =ROUND(假设!F23*F19,0) -> 1892 | M19: =ROUND(假设!G23*F19,0) -> 2244 | N19: =ROUND(假设!H23*F19,0) -> 2596 | O19: =ROUND(假设!I23*F19,0) -> 2948 | P19: =SUM(H19:O19) -> 12390 | Q19: =J19 -> 924 | R19: =P19 -> 12390
A20: 自营 | B20: 项目制投标 | C20: 商业综合体机房 | D20: 工程总承包方 | E20: 0.16 | F20: 0.1 | G20: 非本通道海湾／埃及项目制 | H20: =ROUND(假设!B23*E20,0) -> 80 | I20: =ROUND(假设!C23*E20,0) -> 352 | J20: =ROUND(假设!D23*F20,0) -> 420 | K20: =ROUND(假设!E23*F20,0) -> 640 | L20: =ROUND(假设!F23*F20,0) -> 860 | M20: =ROUND(假设!G23*F20,0) -> 1020 | N20: =ROUND(假设!H23*F20,0) -> 1180 | O20: =ROUND(假设!I23*F20,0) -> 1340 | P20: =SUM(H20:O20) -> 5892 | Q20: =J20 -> 420 | R20: =P20 -> 5892
A21: 自营 | B21: 工程集采年框 | C21: 新建数据中心精密空调 | D21: 数据中心开发商 | E21: 0.22 | F21: 0.2 | G21: 区域开发商直接年框，不经胜阳山 | H21: =ROUND(假设!B23*E21,0) -> 110 | I21: =ROUND(假设!C23*E21,0) -> 484 | J21: =ROUND(假设!D23*F21,0) -> 840 | K21: =ROUND(假设!E23*F21,0) -> 1280 | L21: =ROUND(假设!F23*F21,0) -> 1720 | M21: =ROUND(假设!G23*F21,0) -> 2040 | N21: =ROUND(假设!H23*F21,0) -> 2360 | O21: =ROUND(假设!I23*F21,0) -> 2680 | P21: =SUM(H21:O21) -> 11514 | Q21: =J21 -> 840 | R21: =P21 -> 11514
A22: 合计 | E22: =SUM(E6:E21) -> 2 | F22: =SUM(F6:F21) -> 2 | H22: =SUM(H6:H21) -> 3800 | I22: =SUM(I6:I21) -> 15500 | J22: =SUM(J6:J21) -> 28800 | K22: =SUM(K6:K21) -> 39900 | L22: =SUM(L6:L21) -> 50900 | M22: =SUM(M6:M21) -> 60200 | N22: =SUM(N6:N21) -> 69800 | O22: =SUM(O6:O21) -> 79400 | ... R22: =SUM(R6:R21) -> 167881
A24: 二、份额核对（须为 100%）
A25: 来源 | B25: 前期份额合计 | C25: 成熟份额合计 | D25: 判定
A26: 通道 | B26: =SUMIF($A$6:$A$21,"通道",$E$6:$E$21) -> 1 | C26: =SUMIF($A$6:$A$21,"通道",$F$6:$F$21) -> 1 | D26: =IF(AND(ABS(B26-1)<0.001,ABS(C26-1)<0.001),"齐","份额未对齐") -> 齐
A27: 自营 | B27: =SUMIF($A$6:$A$21,"自营",$E$6:$E$21) -> 1 | C27: =SUMIF($A$6:$A$21,"自营",$F$6:$F$21) -> 1 | D27: =IF(AND(ABS(B27-1)<0.001,ABS(C27-1)<0.001),"齐","份额未对齐") -> 齐
A29: 三、金额核对（拆分合计须等于总表）
A30: 项目 | B30: 第 1 年 | C30: 第 2 年 | D30: 第 3 年 | E30: 第 4 年 | F30: 第 5 年 | G30: 第 6 年 | H30: 第 7 年 | I30: 第 8 年 | J30: 8 年累计
A31: 通道 · 明细合计 | B31: =SUMIF($A$6:$A$21,"通道",H$6:H$21) -> 3300 | C31: =SUMIF($A$6:$A$21,"通道",I$6:I$21) -> 13300 | D31: =SUMIF($A$6:$A$21,"通道",J$6:J$21) -> 24600 | E31: =SUMIF($A$6:$A$21,"通道",K$6:K$21) -> 33500 | F31: =SUMIF($A$6:$A$21,"通道",L$6:L$21) -> 42300 | G31: =SUMIF($A$6:$A$21,"通道",M$6:M$21) -> 50000 | H31: =SUMIF($A$6:$A$21,"通道",N$6:N$21) -> 58000 | I31: =SUMIF($A$6:$A$21,"通道",O$6:O$21) -> 66000 | J31: =SUM(B31:I31) -> 291000
A32: 通道 · 总表基准 | B32: =通道年单!B5 -> 3300 | C32: =通道年单!C5 -> 13300 | D32: =通道年单!D5 -> 24600 | E32: =通道年单!E5 -> 33500 | F32: =通道年单!F5 -> 42300 | G32: =通道年单!G5 -> 50000 | H32: =通道年单!H5 -> 58000 | I32: =通道年单!I5 -> 66000 | J32: =通道年单!J5 -> 291000
A33: 通道 · 差额 | B33: =B31-B32 -> 0 | C33: =C31-C32 -> 0 | D33: =D31-D32 -> 0 | E33: =E31-E32 -> 0 | F33: =F31-F32 -> 0 | G33: =G31-G32 -> 0 | H33: =H31-H32 -> 0 | I33: =I31-I32 -> 0 | J33: =J31-J32 -> 0
A34: 自营 · 明细合计 | B34: =SUMIF($A$6:$A$21,"自营",H$6:H$21) -> 500 | C34: =SUMIF($A$6:$A$21,"自营",I$6:I$21) -> 2200 | D34: =SUMIF($A$6:$A$21,"自营",J$6:J$21) -> 4200 | E34: =SUMIF($A$6:$A$21,"自营",K$6:K$21) -> 6400 | F34: =SUMIF($A$6:$A$21,"自营",L$6:L$21) -> 8600 | G34: =SUMIF($A$6:$A$21,"自营",M$6:M$21) -> 10200 | H34: =SUMIF($A$6:$A$21,"自营",N$6:N$21) -> 11800 | I34: =SUMIF($A$6:$A$21,"自营",O$6:O$21) -> 13400 | J34: =SUM(B34:I34) -> 57300
A35: 自营 · 总表切片 | B35: =假设!B23 -> 500 | C35: =假设!C23 -> 2200 | D35: =假设!D23 -> 4200 | E35: =假设!E23 -> 6400 | F35: =假设!F23 -> 8600 | G35: =假设!G23 -> 10200 | H35: =假设!H23 -> 11800 | I35: =假设!I23 -> 13400 | J35: =假设!J23 -> 57300
A36: 自营 · 差额 | B36: =B34-B35 -> 0 | C36: =C34-C35 -> 0 | D36: =D34-D35 -> 0 | E36: =E34-E35 -> 0 | F36: =F34-F35 -> 0 | G36: =G34-G35 -> 0 | H36: =H34-H35 -> 0 | I36: =I34-I35 -> 0 | J36: =J34-J35 -> 0
A38: 编辑说明：只改 E、F 两列份额。第 3 年列即「锁定年框」的结构，不是 8 年合计数。ROUND 逐行取整，差额通常在 ±数万元，属四舍五入。

Sheet 按渠道
A1: 基准通道年单与海外自营 · 按渠道汇总
A2: 工程集采年框是第 3 年起锁定年框的主通道；前期以项目制投标与机电代理验证交付。系统商 OEM 主要落在海外自营。
A4: 一、胜阳山通道年单（系统合同额）
A5: 渠道 | B5: 第 1 年 | C5: 第 2 年 | D5: 第 3 年 | E5: 第 4 年 | F5: 第 5 年 | G5: 第 6 年 | H5: 第 7 年 | I5: 第 8 年 | J5: 8 年累计 | K5: 第 3 年占比
A6: 工程集采年框 | B6: =SUMIFS(年单明细!H$6:H$21,年单明细!$A$6:$A$21,"通道",年单明细!$B$6:$B$21,A6) -> 660 | C6: =SUMIFS(年单明细!I$6:I$21,年单明细!$A$6:$A$21,"通道",年单明细!$B$6:$B$21,A6) -> 2660 | D6: =SUMIFS(年单明细!J$6:J$21,年单明细!$A$6:$A$21,"通道",年单明细!$B$6:$B$21,A6) -> 10578 | E6: =SUMIFS(年单明细!K$6:K$21,年单明细!$A$6:$A$21,"通道",年单明细!$B$6:$B$21,A6) -> 14405 | F6: =SUMIFS(年单明细!L$6:L$21,年单明细!$A$6:$A$21,"通道",年单明细!$B$6:$B$21,A6) -> 18189 | G6: =SUMIFS(年单明细!M$6:M$21,年单明细!$A$6:$A$21,"通道",年单明细!$B$6:$B$21,A6) -> 21500 | H6: =SUMIFS(年单明细!N$6:N$21,年单明细!$A$6:$A$21,"通道",年单明细!$B$6:$B$21,A6) -> 24940 | I6: =SUMIFS(年单明细!O$6:O$21,年单明细!$A$6:$A$21,"通道",年单明细!$B$6:$B$21,A6) -> 28380 | J6: =SUM(B6:I6) -> 121312 | K6: =IF(D11=0,0,D6/D11) -> 0.43
A7: 机电／数据中心工程代理 | B7: =SUMIFS(年单明细!H$6:H$21,年单明细!$A$6:$A$21,"通道",年单明细!$B$6:$B$21,A7) -> 1254 | C7: =SUMIFS(年单明细!I$6:I$21,年单明细!$A$6:$A$21,"通道",年单明细!$B$6:$B$21,A7) -> 5054 | D7: =SUMIFS(年单明细!J$6:J$21,年单明细!$A$6:$A$21,"通道",年单明细!$B$6:$B$21,A7) -> 8856 | E7: =SUMIFS(年单明细!K$6:K$21,年单明细!$A$6:$A$21,"通道",年单明细!$B$6:$B$21,A7) -> 12060 | F7: =SUMIFS(年单明细!L$6:L$21,年单明细!$A$6:$A$21,"通道",年单明细!$B$6:$B$21,A7) -> 15228 | G7: =SUMIFS(年单明细!M$6:M$21,年单明细!$A$6:$A$21,"通道",年单明细!$B$6:$B$21,A7) -> 18000 | H7: =SUMIFS(年单明细!N$6:N$21,年单明细!$A$6:$A$21,"通道",年单明细!$B$6:$B$21,A7) -> 20880 | I7: =SUMIFS(年单明细!O$6:O$21,年单明细!$A$6:$A$21,"通道",年单明细!$B$6:$B$21,A7) -> 23760 | J7: =SUM(B7:I7) -> 105092 | K7: =IF(D11=0,0,D7/D11) -> 0.36
A8: 项目制投标 | B8: =SUMIFS(年单明细!H$6:H$21,年单明细!$A$6:$A$21,"通道",年单明细!$B$6:$B$21,A8) -> 990 | C8: =SUMIFS(年单明细!I$6:I$21,年单明细!$A$6:$A$21,"通道",年单明细!$B$6:$B$21,A8) -> 3990 | D8: =SUMIFS(年单明细!J$6:J$21,年单明细!$A$6:$A$21,"通道",年单明细!$B$6:$B$21,A8) -> 2706 | E8: =SUMIFS(年单明细!K$6:K$21,年单明细!$A$6:$A$21,"通道",年单明细!$B$6:$B$21,A8) -> 3685 | F8: =SUMIFS(年单明细!L$6:L$21,年单明细!$A$6:$A$21,"通道",年单明细!$B$6:$B$21,A8) -> 4653 | G8: =SUMIFS(年单明细!M$6:M$21,年单明细!$A$6:$A$21,"通道",年单明细!$B$6:$B$21,A8) -> 5500 | H8: =SUMIFS(年单明细!N$6:N$21,年单明细!$A$6:$A$21,"通道",年单明细!$B$6:$B$21,A8) -> 6380 | I8: =SUMIFS(年单明细!O$6:O$21,年单明细!$A$6:$A$21,"通道",年单明细!$B$6:$B$21,A8) -> 7260 | J8: =SUM(B8:I8) -> 35164 | K8: =IF(D11=0,0,D8/D11) -> 0.11
A9: 区域经销 | B9: =SUMIFS(年单明细!H$6:H$21,年单明细!$A$6:$A$21,"通道",年单明细!$B$6:$B$21,A9) -> 396 | C9: =SUMIFS(年单明细!I$6:I$21,年单明细!$A$6:$A$21,"通道",年单明细!$B$6:$B$21,A9) -> 1596 | D9: =SUMIFS(年单明细!J$6:J$21,年单明细!$A$6:$A$21,"通道",年单明细!$B$6:$B$21,A9) -> 2460 | E9: =SUMIFS(年单明细!K$6:K$21,年单明细!$A$6:$A$21,"通道",年单明细!$B$6:$B$21,A9) -> 3350 | F9: =SUMIFS(年单明细!L$6:L$21,年单明细!$A$6:$A$21,"通道",年单明细!$B$6:$B$21,A9) -> 4230 | G9: =SUMIFS(年单明细!M$6:M$21,年单明细!$A$6:$A$21,"通道",年单明细!$B$6:$B$21,A9) -> 5000 | H9: =SUMIFS(年单明细!N$6:N$21,年单明细!$A$6:$A$21,"通道",年单明细!$B$6:$B$21,A9) -> 5800 | I9: =SUMIFS(年单明细!O$6:O$21,年单明细!$A$6:$A$21,"通道",年单明细!$B$6:$B$21,A9) -> 6600 | J9: =SUM(B9:I9) -> 29432 | K9: =IF(D11=0,0,D9/D11) -> 0.1
A10: 系统商 OEM | B10: =SUMIFS(年单明细!H$6:H$21,年单明细!$A$6:$A$21,"通道",年单明细!$B$6:$B$21,A10) -> 0 | C10: =SUMIFS(年单明细!I$6:I$21,年单明细!$A$6:$A$21,"通道",年单明细!$B$6:$B$21,A10) -> 0 | D10: =SUMIFS(年单明细!J$6:J$21,年单明细!$A$6:$A$21,"通道",年单明细!$B$6:$B$21,A10) -> 0 | E10: =SUMIFS(年单明细!K$6:K$21,年单明细!$A$6:$A$21,"通道",年单明细!$B$6:$B$21,A10) -> 0 | F10: =SUMIFS(年单明细!L$6:L$21,年单明细!$A$6:$A$21,"通道",年单明细!$B$6:$B$21,A10) -> 0 | G10: =SUMIFS(年单明细!M$6:M$21,年单明细!$A$6:$A$21,"通道",年单明细!$B$6:$B$21,A10) -> 0 | H10: =SUMIFS(年单明细!N$6:N$21,年单明细!$A$6:$A$21,"通道",年单明细!$B$6:$B$21,A10) -> 0 | I10: =SUMIFS(年单明细!O$6:O$21,年单明细!$A$6:$A$21,"通道",年单明细!$B$6:$B$21,A10) -> 0 | J10: =SUM(B10:I10) -> 0 | K10: =IF(D11=0,0,D10/D11) -> 0
A11: 小计 | B11: =SUM(B6:B10) -> 3300 | C11: =SUM(C6:C10) -> 13300 | D11: =SUM(D6:D10) -> 24600 | E11: =SUM(E6:E10) -> 33500 | F11: =SUM(F6:F10) -> 42300 | G11: =SUM(G6:G10) -> 50000 | H11: =SUM(H6:H10) -> 58000 | I11: =SUM(I6:I10) -> 66000 | J11: =SUM(J6:J10) -> 291000 | K11: =IF(D11=0,0,D11/D11) -> 1
A14: 二、佳力图海外自营（可归因切片）
A15: 渠道 | B15: 第 1 年 | C15: 第 2 年 | D15: 第 3 年 | E15: 第 4 年 | F15: 第 5 年 | G15: 第 6 年 | H15: 第 7 年 | I15: 第 8 年 | J15: 8 年累计 | K15: 第 3 年占比
A16: 工程集采年框 | B16: =SUMIFS(年单明细!H$6:H$21,年单明细!$A$6:$A$21,"自营",年单明细!$B$6:$B$21,A16) -> 110 | C16: =SUMIFS(年单明细!I$6:I$21,年单明细!$A$6:$A$21,"自营",年单明细!$B$6:$B$21,A16) -> 484 | D16: =SUMIFS(年单明细!J$6:J$21,年单明细!$A$6:$A$21,"自营",年单明细!$B$6:$B$21,A16) -> 840 | E16: =SUMIFS(年单明细!K$6:K$21,年单明细!$A$6:$A$21,"自营",年单明细!$B$6:$B$21,A16) -> 1280 | F16: =SUMIFS(年单明细!L$6:L$21,年单明细!$A$6:$A$21,"自营",年单明细!$B$6:$B$21,A16) -> 1720 | G16: =SUMIFS(年单明细!M$6:M$21,年单明细!$A$6:$A$21,"自营",年单明细!$B$6:$B$21,A16) -> 2040 | H16: =SUMIFS(年单明细!N$6:N$21,年单明细!$A$6:$A$21,"自营",年单明细!$B$6:$B$21,A16) -> 2360 | I16: =SUMIFS(年单明细!O$6:O$21,年单明细!$A$6:$A$21,"自营",年单明细!$B$6:$B$21,A16) -> 2680 | J16: =SUM(B16:I16) -> 11514 | K16: =IF(D21=0,0,D16/D21) -> 0.2
A17: 机电／数据中心工程代理 | B17: =SUMIFS(年单明细!H$6:H$21,年单明细!$A$6:$A$21,"自营",年单明细!$B$6:$B$21,A17) -> 0 | C17: =SUMIFS(年单明细!I$6:I$21,年单明细!$A$6:$A$21,"自营",年单明细!$B$6:$B$21,A17) -> 0 | D17: =SUMIFS(年单明细!J$6:J$21,年单明细!$A$6:$A$21,"自营",年单明细!$B$6:$B$21,A17) -> 0 | E17: =SUMIFS(年单明细!K$6:K$21,年单明细!$A$6:$A$21,"自营",年单明细!$B$6:$B$21,A17) -> 0 | F17: =SUMIFS(年单明细!L$6:L$21,年单明细!$A$6:$A$21,"自营",年单明细!$B$6:$B$21,A17) -> 0 | G17: =SUMIFS(年单明细!M$6:M$21,年单明细!$A$6:$A$21,"自营",年单明细!$B$6:$B$21,A17) -> 0 | H17: =SUMIFS(年单明细!N$6:N$21,年单明细!$A$6:$A$21,"自营",年单明细!$B$6:$B$21,A17) -> 0 | I17: =SUMIFS(年单明细!O$6:O$21,年单明细!$A$6:$A$21,"自营",年单明细!$B$6:$B$21,A17) -> 0 | J17: =SUM(B17:I17) -> 0 | K17: =IF(D21=0,0,D17/D21) -> 0
A18: 项目制投标 | B18: =SUMIFS(年单明细!H$6:H$21,年单明细!$A$6:$A$21,"自营",年单明细!$B$6:$B$21,A18) -> 80 | C18: =SUMIFS(年单明细!I$6:I$21,年单明细!$A$6:$A$21,"自营",年单明细!$B$6:$B$21,A18) -> 352 | D18: =SUMIFS(年单明细!J$6:J$21,年单明细!$A$6:$A$21,"自营",年单明细!$B$6:$B$21,A18) -> 420 | E18: =SUMIFS(年单明细!K$6:K$21,年单明细!$A$6:$A$21,"自营",年单明细!$B$6:$B$21,A18) -> 640 | F18: =SUMIFS(年单明细!L$6:L$21,年单明细!$A$6:$A$21,"自营",年单明细!$B$6:$B$21,A18) -> 860 | G18: =SUMIFS(年单明细!M$6:M$21,年单明细!$A$6:$A$21,"自营",年单明细!$B$6:$B$21,A18) -> 1020 | H18: =SUMIFS(年单明细!N$6:N$21,年单明细!$A$6:$A$21,"自营",年单明细!$B$6:$B$21,A18) -> 1180 | I18: =SUMIFS(年单明细!O$6:O$21,年单明细!$A$6:$A$21,"自营",年单明细!$B$6:$B$21,A18) -> 1340 | J18: =SUM(B18:I18) -> 5892 | K18: =IF(D21=0,0,D18/D21) -> 0.1
A19: 区域经销 | B19: =SUMIFS(年单明细!H$6:H$21,年单明细!$A$6:$A$21,"自营",年单明细!$B$6:$B$21,A19) -> 150 | C19: =SUMIFS(年单明细!I$6:I$21,年单明细!$A$6:$A$21,"自营",年单明细!$B$6:$B$21,A19) -> 660 | D19: =SUMIFS(年单明细!J$6:J$21,年单明细!$A$6:$A$21,"自营",年单明细!$B$6:$B$21,A19) -> 924 | E19: =SUMIFS(年单明细!K$6:K$21,年单明细!$A$6:$A$21,"自营",年单明细!$B$6:$B$21,A19) -> 1408 | F19: =SUMIFS(年单明细!L$6:L$21,年单明细!$A$6:$A$21,"自营",年单明细!$B$6:$B$21,A19) -> 1892 | G19: =SUMIFS(年单明细!M$6:M$21,年单明细!$A$6:$A$21,"自营",年单明细!$B$6:$B$21,A19) -> 2244 | H19: =SUMIFS(年单明细!N$6:N$21,年单明细!$A$6:$A$21,"自营",年单明细!$B$6:$B$21,A19) -> 2596 | I19: =SUMIFS(年单明细!O$6:O$21,年单明细!$A$6:$A$21,"自营",年单明细!$B$6:$B$21,A19) -> 2948 | J19: =SUM(B19:I19) -> 12822 | K19: =IF(D21=0,0,D19/D21) -> 0.22
A20: 系统商 OEM | B20: =SUMIFS(年单明细!H$6:H$21,年单明细!$A$6:$A$21,"自营",年单明细!$B$6:$B$21,A20) -> 160 | C20: =SUMIFS(年单明细!I$6:I$21,年单明细!$A$6:$A$21,"自营",年单明细!$B$6:$B$21,A20) -> 704 | D20: =SUMIFS(年单明细!J$6:J$21,年单明细!$A$6:$A$21,"自营",年单明细!$B$6:$B$21,A20) -> 2016 | E20: =SUMIFS(年单明细!K$6:K$21,年单明细!$A$6:$A$21,"自营",年单明细!$B$6:$B$21,A20) -> 3072 | F20: =SUMIFS(年单明细!L$6:L$21,年单明细!$A$6:$A$21,"自营",年单明细!$B$6:$B$21,A20) -> 4128 | G20: =SUMIFS(年单明细!M$6:M$21,年单明细!$A$6:$A$21,"自营",年单明细!$B$6:$B$21,A20) -> 4896 | H20: =SUMIFS(年单明细!N$6:N$21,年单明细!$A$6:$A$21,"自营",年单明细!$B$6:$B$21,A20) -> 5664 | I20: =SUMIFS(年单明细!O$6:O$21,年单明细!$A$6:$A$21,"自营",年单明细!$B$6:$B$21,A20) -> 6432 | J20: =SUM(B20:I20) -> 27072 | K20: =IF(D21=0,0,D20/D21) -> 0.48
A21: 小计 | B21: =SUM(B16:B20) -> 500 | C21: =SUM(C16:C20) -> 2200 | D21: =SUM(D16:D20) -> 4200 | E21: =SUM(E16:E20) -> 6400 | F21: =SUM(F16:F20) -> 8600 | G21: =SUM(G16:G20) -> 10200 | H21: =SUM(H16:H20) -> 11800 | I21: =SUM(I16:I20) -> 13400 | J21: =SUM(J16:J20) -> 57300 | K21: =IF(D21=0,0,D21/D21) -> 1
A24: 三、通道 + 自营（仅供对照；利润仍按总表口径，不按本表加总重算 IRR）
A25: 渠道 | B25: 第 1 年 | C25: 第 2 年 | D25: 第 3 年 | E25: 第 4 年 | F25: 第 5 年 | G25: 第 6 年 | H25: 第 7 年 | I25: 第 8 年 | J25: 8 年累计 | K25: 第 3 年占比
A26: 工程集采年框 | B26: =B6+B16 -> 770 | C26: =C6+C16 -> 3144 | D26: =D6+D16 -> 11418 | E26: =E6+E16 -> 15685 | F26: =F6+F16 -> 19909 | G26: =G6+G16 -> 23540 | H26: =H6+H16 -> 27300 | I26: =I6+I16 -> 31060 | J26: =J6+J16 -> 132826 | K26: =IF(D31=0,0,D26/D31) -> 0.39645833
A27: 机电／数据中心工程代理 | B27: =B7+B17 -> 1254 | C27: =C7+C17 -> 5054 | D27: =D7+D17 -> 8856 | E27: =E7+E17 -> 12060 | F27: =F7+F17 -> 15228 | G27: =G7+G17 -> 18000 | H27: =H7+H17 -> 20880 | I27: =I7+I17 -> 23760 | J27: =J7+J17 -> 105092 | K27: =IF(D31=0,0,D27/D31) -> 0.3075
A28: 项目制投标 | B28: =B8+B18 -> 1070 | C28: =C8+C18 -> 4342 | D28: =D8+D18 -> 3126 | E28: =E8+E18 -> 4325 | F28: =F8+F18 -> 5513 | G28: =G8+G18 -> 6520 | H28: =H8+H18 -> 7560 | I28: =I8+I18 -> 8600 | J28: =J8+J18 -> 41056 | K28: =IF(D31=0,0,D28/D31) -> 0.10854167
A29: 区域经销 | B29: =B9+B19 -> 546 | C29: =C9+C19 -> 2256 | D29: =D9+D19 -> 3384 | E29: =E9+E19 -> 4758 | F29: =F9+F19 -> 6122 | G29: =G9+G19 -> 7244 | H29: =H9+H19 -> 8396 | I29: =I9+I19 -> 9548 | J29: =J9+J19 -> 42254 | K29: =IF(D31=0,0,D29/D31) -> 0.1175
A30: 系统商 OEM | B30: =B10+B20 -> 160 | C30: =C10+C20 -> 704 | D30: =D10+D20 -> 2016 | E30: =E10+E20 -> 3072 | F30: =F10+F20 -> 4128 | G30: =G10+G20 -> 4896 | H30: =H10+H20 -> 5664 | I30: =I10+I20 -> 6432 | J30: =J10+J20 -> 27072 | K30: =IF(D31=0,0,D30/D31) -> 0.07
A31: 合计 | B31: =SUM(B26:B30) -> 3800 | C31: =SUM(C26:C30) -> 15500 | D31: =SUM(D26:D30) -> 28800 | E31: =SUM(E26:E30) -> 39900 | F31: =SUM(F26:F30) -> 50900 | G31: =SUM(G26:G30) -> 60200 | H31: =SUM(H26:H30) -> 69800 | I31: =SUM(I26:I30) -> 79400 | J31: =SUM(J26:J30) -> 348300 | K31: =1 -> 1
A33: 第 3 年列（浅底）即锁定年框的结构。改「年单明细」E/F 列后本表自动刷新。

Sheet 按场景
A1: 基准通道年单与海外自营 · 按场景汇总
A2: 海湾通道以高温智算液冷与新建数据中心为主；集装箱液冷／预制冷站作单位项目价值入口。产业园区标准机房多在自营切片。
A4: 一、胜阳山通道年单（系统合同额）
A5: 场景 | B5: 第 1 年 | C5: 第 2 年 | D5: 第 3 年 | E5: 第 4 年 | F5: 第 5 年 | G5: 第 6 年 | H5: 第 7 年 | I5: 第 8 年 | J5: 8 年累计 | K5: 第 3 年占比
A6: 高温智算液冷机房 | B6: =SUMIFS(年单明细!H$6:H$21,年单明细!$A$6:$A$21,"通道",年单明细!$C$6:$C$21,A6) -> 858 | C6: =SUMIFS(年单明细!I$6:I$21,年单明细!$A$6:$A$21,"通道",年单明细!$C$6:$C$21,A6) -> 3458 | D6: =SUMIFS(年单明细!J$6:J$21,年单明细!$A$6:$A$21,"通道",年单明细!$C$6:$C$21,A6) -> 10332 | E6: =SUMIFS(年单明细!K$6:K$21,年单明细!$A$6:$A$21,"通道",年单明细!$C$6:$C$21,A6) -> 14070 | F6: =SUMIFS(年单明细!L$6:L$21,年单明细!$A$6:$A$21,"通道",年单明细!$C$6:$C$21,A6) -> 17766 | G6: =SUMIFS(年单明细!M$6:M$21,年单明细!$A$6:$A$21,"通道",年单明细!$C$6:$C$21,A6) -> 21000 | H6: =SUMIFS(年单明细!N$6:N$21,年单明细!$A$6:$A$21,"通道",年单明细!$C$6:$C$21,A6) -> 24360 | I6: =SUMIFS(年单明细!O$6:O$21,年单明细!$A$6:$A$21,"通道",年单明细!$C$6:$C$21,A6) -> 27720 | J6: =SUM(B6:I6) -> 119564 | K6: =IF(D11=0,0,D6/D11) -> 0.42
A7: 新建数据中心精密空调 | B7: =SUMIFS(年单明细!H$6:H$21,年单明细!$A$6:$A$21,"通道",年单明细!$C$6:$C$21,A7) -> 1518 | C7: =SUMIFS(年单明细!I$6:I$21,年单明细!$A$6:$A$21,"通道",年单明细!$C$6:$C$21,A7) -> 6118 | D7: =SUMIFS(年单明细!J$6:J$21,年单明细!$A$6:$A$21,"通道",年单明细!$C$6:$C$21,A7) -> 7872 | E7: =SUMIFS(年单明细!K$6:K$21,年单明细!$A$6:$A$21,"通道",年单明细!$C$6:$C$21,A7) -> 10720 | F7: =SUMIFS(年单明细!L$6:L$21,年单明细!$A$6:$A$21,"通道",年单明细!$C$6:$C$21,A7) -> 13536 | G7: =SUMIFS(年单明细!M$6:M$21,年单明细!$A$6:$A$21,"通道",年单明细!$C$6:$C$21,A7) -> 16000 | H7: =SUMIFS(年单明细!N$6:N$21,年单明细!$A$6:$A$21,"通道",年单明细!$C$6:$C$21,A7) -> 18560 | I7: =SUMIFS(年单明细!O$6:O$21,年单明细!$A$6:$A$21,"通道",年单明细!$C$6:$C$21,A7) -> 21120 | J7: =SUM(B7:I7) -> 95444 | K7: =IF(D11=0,0,D7/D11) -> 0.32
A8: 商业综合体机房 | B8: =SUMIFS(年单明细!H$6:H$21,年单明细!$A$6:$A$21,"通道",年单明细!$C$6:$C$21,A8) -> 330 | C8: =SUMIFS(年单明细!I$6:I$21,年单明细!$A$6:$A$21,"通道",年单明细!$C$6:$C$21,A8) -> 1330 | D8: =SUMIFS(年单明细!J$6:J$21,年单明细!$A$6:$A$21,"通道",年单明细!$C$6:$C$21,A8) -> 1968 | E8: =SUMIFS(年单明细!K$6:K$21,年单明细!$A$6:$A$21,"通道",年单明细!$C$6:$C$21,A8) -> 2680 | F8: =SUMIFS(年单明细!L$6:L$21,年单明细!$A$6:$A$21,"通道",年单明细!$C$6:$C$21,A8) -> 3384 | G8: =SUMIFS(年单明细!M$6:M$21,年单明细!$A$6:$A$21,"通道",年单明细!$C$6:$C$21,A8) -> 4000 | H8: =SUMIFS(年单明细!N$6:N$21,年单明细!$A$6:$A$21,"通道",年单明细!$C$6:$C$21,A8) -> 4640 | I8: =SUMIFS(年单明细!O$6:O$21,年单明细!$A$6:$A$21,"通道",年单明细!$C$6:$C$21,A8) -> 5280 | J8: =SUM(B8:I8) -> 23612 | K8: =IF(D11=0,0,D8/D11) -> 0.08
A9: 产业园区标准机房 | B9: =SUMIFS(年单明细!H$6:H$21,年单明细!$A$6:$A$21,"通道",年单明细!$C$6:$C$21,A9) -> 264 | C9: =SUMIFS(年单明细!I$6:I$21,年单明细!$A$6:$A$21,"通道",年单明细!$C$6:$C$21,A9) -> 1064 | D9: =SUMIFS(年单明细!J$6:J$21,年单明细!$A$6:$A$21,"通道",年单明细!$C$6:$C$21,A9) -> 984 | E9: =SUMIFS(年单明细!K$6:K$21,年单明细!$A$6:$A$21,"通道",年单明细!$C$6:$C$21,A9) -> 1340 | F9: =SUMIFS(年单明细!L$6:L$21,年单明细!$A$6:$A$21,"通道",年单明细!$C$6:$C$21,A9) -> 1692 | G9: =SUMIFS(年单明细!M$6:M$21,年单明细!$A$6:$A$21,"通道",年单明细!$C$6:$C$21,A9) -> 2000 | H9: =SUMIFS(年单明细!N$6:N$21,年单明细!$A$6:$A$21,"通道",年单明细!$C$6:$C$21,A9) -> 2320 | I9: =SUMIFS(年单明细!O$6:O$21,年单明细!$A$6:$A$21,"通道",年单明细!$C$6:$C$21,A9) -> 2640 | J9: =SUM(B9:I9) -> 12304 | K9: =IF(D11=0,0,D9/D11) -> 0.04
A10: 集装箱液冷／预制冷站 | B10: =SUMIFS(年单明细!H$6:H$21,年单明细!$A$6:$A$21,"通道",年单明细!$C$6:$C$21,A10) -> 330 | C10: =SUMIFS(年单明细!I$6:I$21,年单明细!$A$6:$A$21,"通道",年单明细!$C$6:$C$21,A10) -> 1330 | D10: =SUMIFS(年单明细!J$6:J$21,年单明细!$A$6:$A$21,"通道",年单明细!$C$6:$C$21,A10) -> 3444 | E10: =SUMIFS(年单明细!K$6:K$21,年单明细!$A$6:$A$21,"通道",年单明细!$C$6:$C$21,A10) -> 4690 | F10: =SUMIFS(年单明细!L$6:L$21,年单明细!$A$6:$A$21,"通道",年单明细!$C$6:$C$21,A10) -> 5922 | G10: =SUMIFS(年单明细!M$6:M$21,年单明细!$A$6:$A$21,"通道",年单明细!$C$6:$C$21,A10) -> 7000 | H10: =SUMIFS(年单明细!N$6:N$21,年单明细!$A$6:$A$21,"通道",年单明细!$C$6:$C$21,A10) -> 8120 | I10: =SUMIFS(年单明细!O$6:O$21,年单明细!$A$6:$A$21,"通道",年单明细!$C$6:$C$21,A10) -> 9240 | J10: =SUM(B10:I10) -> 40076 | K10: =IF(D11=0,0,D10/D11) -> 0.14
A11: 小计 | B11: =SUM(B6:B10) -> 3300 | C11: =SUM(C6:C10) -> 13300 | D11: =SUM(D6:D10) -> 24600 | E11: =SUM(E6:E10) -> 33500 | F11: =SUM(F6:F10) -> 42300 | G11: =SUM(G6:G10) -> 50000 | H11: =SUM(H6:H10) -> 58000 | I11: =SUM(I6:I10) -> 66000 | J11: =SUM(J6:J10) -> 291000 | K11: =IF(D11=0,0,D11/D11) -> 1
A14: 二、佳力图海外自营（可归因切片）
A15: 场景 | B15: 第 1 年 | C15: 第 2 年 | D15: 第 3 年 | E15: 第 4 年 | F15: 第 5 年 | G15: 第 6 年 | H15: 第 7 年 | I15: 第 8 年 | J15: 8 年累计 | K15: 第 3 年占比
A16: 高温智算液冷机房 | B16: =SUMIFS(年单明细!H$6:H$21,年单明细!$A$6:$A$21,"自营",年单明细!$C$6:$C$21,A16) -> 70 | C16: =SUMIFS(年单明细!I$6:I$21,年单明细!$A$6:$A$21,"自营",年单明细!$C$6:$C$21,A16) -> 308 | D16: =SUMIFS(年单明细!J$6:J$21,年单明细!$A$6:$A$21,"自营",年单明细!$C$6:$C$21,A16) -> 924 | E16: =SUMIFS(年单明细!K$6:K$21,年单明细!$A$6:$A$21,"自营",年单明细!$C$6:$C$21,A16) -> 1408 | F16: =SUMIFS(年单明细!L$6:L$21,年单明细!$A$6:$A$21,"自营",年单明细!$C$6:$C$21,A16) -> 1892 | G16: =SUMIFS(年单明细!M$6:M$21,年单明细!$A$6:$A$21,"自营",年单明细!$C$6:$C$21,A16) -> 2244 | H16: =SUMIFS(年单明细!N$6:N$21,年单明细!$A$6:$A$21,"自营",年单明细!$C$6:$C$21,A16) -> 2596 | I16: =SUMIFS(年单明细!O$6:O$21,年单明细!$A$6:$A$21,"自营",年单明细!$C$6:$C$21,A16) -> 2948 | J16: =SUM(B16:I16) -> 12390 | K16: =IF(D21=0,0,D16/D21) -> 0.22
A17: 新建数据中心精密空调 | B17: =SUMIFS(年单明细!H$6:H$21,年单明细!$A$6:$A$21,"自营",年单明细!$C$6:$C$21,A17) -> 200 | C17: =SUMIFS(年单明细!I$6:I$21,年单明细!$A$6:$A$21,"自营",年单明细!$C$6:$C$21,A17) -> 880 | D17: =SUMIFS(年单明细!J$6:J$21,年单明细!$A$6:$A$21,"自营",年单明细!$C$6:$C$21,A17) -> 1428 | E17: =SUMIFS(年单明细!K$6:K$21,年单明细!$A$6:$A$21,"自营",年单明细!$C$6:$C$21,A17) -> 2176 | F17: =SUMIFS(年单明细!L$6:L$21,年单明细!$A$6:$A$21,"自营",年单明细!$C$6:$C$21,A17) -> 2924 | G17: =SUMIFS(年单明细!M$6:M$21,年单明细!$A$6:$A$21,"自营",年单明细!$C$6:$C$21,A17) -> 3468 | H17: =SUMIFS(年单明细!N$6:N$21,年单明细!$A$6:$A$21,"自营",年单明细!$C$6:$C$21,A17) -> 4012 | I17: =SUMIFS(年单明细!O$6:O$21,年单明细!$A$6:$A$21,"自营",年单明细!$C$6:$C$21,A17) -> 4556 | J17: =SUM(B17:I17) -> 19644 | K17: =IF(D21=0,0,D17/D21) -> 0.34
A18: 商业综合体机房 | B18: =SUMIFS(年单明细!H$6:H$21,年单明细!$A$6:$A$21,"自营",年单明细!$C$6:$C$21,A18) -> 80 | C18: =SUMIFS(年单明细!I$6:I$21,年单明细!$A$6:$A$21,"自营",年单明细!$C$6:$C$21,A18) -> 352 | D18: =SUMIFS(年单明细!J$6:J$21,年单明细!$A$6:$A$21,"自营",年单明细!$C$6:$C$21,A18) -> 420 | E18: =SUMIFS(年单明细!K$6:K$21,年单明细!$A$6:$A$21,"自营",年单明细!$C$6:$C$21,A18) -> 640 | F18: =SUMIFS(年单明细!L$6:L$21,年单明细!$A$6:$A$21,"自营",年单明细!$C$6:$C$21,A18) -> 860 | G18: =SUMIFS(年单明细!M$6:M$21,年单明细!$A$6:$A$21,"自营",年单明细!$C$6:$C$21,A18) -> 1020 | H18: =SUMIFS(年单明细!N$6:N$21,年单明细!$A$6:$A$21,"自营",年单明细!$C$6:$C$21,A18) -> 1180 | I18: =SUMIFS(年单明细!O$6:O$21,年单明细!$A$6:$A$21,"自营",年单明细!$C$6:$C$21,A18) -> 1340 | J18: =SUM(B18:I18) -> 5892 | K18: =IF(D21=0,0,D18/D21) -> 0.1
A19: 产业园区标准机房 | B19: =SUMIFS(年单明细!H$6:H$21,年单明细!$A$6:$A$21,"自营",年单明细!$C$6:$C$21,A19) -> 60 | C19: =SUMIFS(年单明细!I$6:I$21,年单明细!$A$6:$A$21,"自营",年单明细!$C$6:$C$21,A19) -> 264 | D19: =SUMIFS(年单明细!J$6:J$21,年单明细!$A$6:$A$21,"自营",年单明细!$C$6:$C$21,A19) -> 336 | E19: =SUMIFS(年单明细!K$6:K$21,年单明细!$A$6:$A$21,"自营",年单明细!$C$6:$C$21,A19) -> 512 | F19: =SUMIFS(年单明细!L$6:L$21,年单明细!$A$6:$A$21,"自营",年单明细!$C$6:$C$21,A19) -> 688 | G19: =SUMIFS(年单明细!M$6:M$21,年单明细!$A$6:$A$21,"自营",年单明细!$C$6:$C$21,A19) -> 816 | H19: =SUMIFS(年单明细!N$6:N$21,年单明细!$A$6:$A$21,"自营",年单明细!$C$6:$C$21,A19) -> 944 | I19: =SUMIFS(年单明细!O$6:O$21,年单明细!$A$6:$A$21,"自营",年单明细!$C$6:$C$21,A19) -> 1072 | J19: =SUM(B19:I19) -> 4692 | K19: =IF(D21=0,0,D19/D21) -> 0.08
A20: 集装箱液冷／预制冷站 | B20: =SUMIFS(年单明细!H$6:H$21,年单明细!$A$6:$A$21,"自营",年单明细!$C$6:$C$21,A20) -> 90 | C20: =SUMIFS(年单明细!I$6:I$21,年单明细!$A$6:$A$21,"自营",年单明细!$C$6:$C$21,A20) -> 396 | D20: =SUMIFS(年单明细!J$6:J$21,年单明细!$A$6:$A$21,"自营",年单明细!$C$6:$C$21,A20) -> 1092 | E20: =SUMIFS(年单明细!K$6:K$21,年单明细!$A$6:$A$21,"自营",年单明细!$C$6:$C$21,A20) -> 1664 | F20: =SUMIFS(年单明细!L$6:L$21,年单明细!$A$6:$A$21,"自营",年单明细!$C$6:$C$21,A20) -> 2236 | G20: =SUMIFS(年单明细!M$6:M$21,年单明细!$A$6:$A$21,"自营",年单明细!$C$6:$C$21,A20) -> 2652 | H20: =SUMIFS(年单明细!N$6:N$21,年单明细!$A$6:$A$21,"自营",年单明细!$C$6:$C$21,A20) -> 3068 | I20: =SUMIFS(年单明细!O$6:O$21,年单明细!$A$6:$A$21,"自营",年单明细!$C$6:$C$21,A20) -> 3484 | J20: =SUM(B20:I20) -> 14682 | K20: =IF(D21=0,0,D20/D21) -> 0.26
A21: 小计 | B21: =SUM(B16:B20) -> 500 | C21: =SUM(C16:C20) -> 2200 | D21: =SUM(D16:D20) -> 4200 | E21: =SUM(E16:E20) -> 6400 | F21: =SUM(F16:F20) -> 8600 | G21: =SUM(G16:G20) -> 10200 | H21: =SUM(H16:H20) -> 11800 | I21: =SUM(I16:I20) -> 13400 | J21: =SUM(J16:J20) -> 57300 | K21: =IF(D21=0,0,D21/D21) -> 1
A24: 三、通道 + 自营（仅供对照；利润仍按总表口径，不按本表加总重算 IRR）
A25: 场景 | B25: 第 1 年 | C25: 第 2 年 | D25: 第 3 年 | E25: 第 4 年 | F25: 第 5 年 | G25: 第 6 年 | H25: 第 7 年 | I25: 第 8 年 | J25: 8 年累计 | K25: 第 3 年占比
A26: 高温智算液冷机房 | B26: =B6+B16 -> 928 | C26: =C6+C16 -> 3766 | D26: =D6+D16 -> 11256 | E26: =E6+E16 -> 15478 | F26: =F6+F16 -> 19658 | G26: =G6+G16 -> 23244 | H26: =H6+H16 -> 26956 | I26: =I6+I16 -> 30668 | J26: =J6+J16 -> 131954 | K26: =IF(D31=0,0,D26/D31) -> 0.39083333
A27: 新建数据中心精密空调 | B27: =B7+B17 -> 1718 | C27: =C7+C17 -> 6998 | D27: =D7+D17 -> 9300 | E27: =E7+E17 -> 12896 | F27: =F7+F17 -> 16460 | G27: =G7+G17 -> 19468 | H27: =H7+H17 -> 22572 | I27: =I7+I17 -> 25676 | J27: =J7+J17 -> 115088 | K27: =IF(D31=0,0,D27/D31) -> 0.32291667
A28: 商业综合体机房 | B28: =B8+B18 -> 410 | C28: =C8+C18 -> 1682 | D28: =D8+D18 -> 2388 | E28: =E8+E18 -> 3320 | F28: =F8+F18 -> 4244 | G28: =G8+G18 -> 5020 | H28: =H8+H18 -> 5820 | I28: =I8+I18 -> 6620 | J28: =J8+J18 -> 29504 | K28: =IF(D31=0,0,D28/D31) -> 0.082916667
A29: 产业园区标准机房 | B29: =B9+B19 -> 324 | C29: =C9+C19 -> 1328 | D29: =D9+D19 -> 1320 | E29: =E9+E19 -> 1852 | F29: =F9+F19 -> 2380 | G29: =G9+G19 -> 2816 | H29: =H9+H19 -> 3264 | I29: =I9+I19 -> 3712 | J29: =J9+J19 -> 16996 | K29: =IF(D31=0,0,D29/D31) -> 0.045833333
A30: 集装箱液冷／预制冷站 | B30: =B10+B20 -> 420 | C30: =C10+C20 -> 1726 | D30: =D10+D20 -> 4536 | E30: =E10+E20 -> 6354 | F30: =F10+F20 -> 8158 | G30: =G10+G20 -> 9652 | H30: =H10+H20 -> 11188 | I30: =I10+I20 -> 12724 | J30: =J10+J20 -> 54758 | K30: =IF(D31=0,0,D30/D31) -> 0.1575
A31: 合计 | B31: =SUM(B26:B30) -> 3800 | C31: =SUM(C26:C30) -> 15500 | D31: =SUM(D26:D30) -> 28800 | E31: =SUM(E26:E30) -> 39900 | F31: =SUM(F26:F30) -> 50900 | G31: =SUM(G26:G30) -> 60200 | H31: =SUM(H26:H30) -> 69800 | I31: =SUM(I26:I30) -> 79400 | J31: =SUM(J26:J30) -> 348300 | K31: =1 -> 1
A33: 第 3 年列（浅底）即锁定年框的结构。改「年单明细」E/F 列后本表自动刷新。

Sheet 按客户
A1: 基准通道年单与海外自营 · 按客户类型汇总
A2: 客户为采购方类型，不列具体总包或业主名称。通道侧以数据中心开发商与工程总承包方为主；自营侧补区域运营商与系统商。
A4: 一、胜阳山通道年单（系统合同额）
A5: 客户类型 | B5: 第 1 年 | C5: 第 2 年 | D5: 第 3 年 | E5: 第 4 年 | F5: 第 5 年 | G5: 第 6 年 | H5: 第 7 年 | I5: 第 8 年 | J5: 8 年累计 | K5: 第 3 年占比
A6: 数据中心开发商 | B6: =SUMIFS(年单明细!H$6:H$21,年单明细!$A$6:$A$21,"通道",年单明细!$D$6:$D$21,A6) -> 858 | C6: =SUMIFS(年单明细!I$6:I$21,年单明细!$A$6:$A$21,"通道",年单明细!$D$6:$D$21,A6) -> 3458 | D6: =SUMIFS(年单明细!J$6:J$21,年单明细!$A$6:$A$21,"通道",年单明细!$D$6:$D$21,A6) -> 12792 | E6: =SUMIFS(年单明细!K$6:K$21,年单明细!$A$6:$A$21,"通道",年单明细!$D$6:$D$21,A6) -> 17420 | F6: =SUMIFS(年单明细!L$6:L$21,年单明细!$A$6:$A$21,"通道",年单明细!$D$6:$D$21,A6) -> 21996 | G6: =SUMIFS(年单明细!M$6:M$21,年单明细!$A$6:$A$21,"通道",年单明细!$D$6:$D$21,A6) -> 26000 | H6: =SUMIFS(年单明细!N$6:N$21,年单明细!$A$6:$A$21,"通道",年单明细!$D$6:$D$21,A6) -> 30160 | I6: =SUMIFS(年单明细!O$6:O$21,年单明细!$A$6:$A$21,"通道",年单明细!$D$6:$D$21,A6) -> 34320 | J6: =SUM(B6:I6) -> 147004 | K6: =IF(D11=0,0,D6/D11) -> 0.52
A7: 工程总承包方 | B7: =SUMIFS(年单明细!H$6:H$21,年单明细!$A$6:$A$21,"通道",年单明细!$D$6:$D$21,A7) -> 1782 | C7: =SUMIFS(年单明细!I$6:I$21,年单明细!$A$6:$A$21,"通道",年单明细!$D$6:$D$21,A7) -> 7182 | D7: =SUMIFS(年单明细!J$6:J$21,年单明细!$A$6:$A$21,"通道",年单明细!$D$6:$D$21,A7) -> 8364 | E7: =SUMIFS(年单明细!K$6:K$21,年单明细!$A$6:$A$21,"通道",年单明细!$D$6:$D$21,A7) -> 11390 | F7: =SUMIFS(年单明细!L$6:L$21,年单明细!$A$6:$A$21,"通道",年单明细!$D$6:$D$21,A7) -> 14382 | G7: =SUMIFS(年单明细!M$6:M$21,年单明细!$A$6:$A$21,"通道",年单明细!$D$6:$D$21,A7) -> 17000 | H7: =SUMIFS(年单明细!N$6:N$21,年单明细!$A$6:$A$21,"通道",年单明细!$D$6:$D$21,A7) -> 19720 | I7: =SUMIFS(年单明细!O$6:O$21,年单明细!$A$6:$A$21,"通道",年单明细!$D$6:$D$21,A7) -> 22440 | J7: =SUM(B7:I7) -> 102260 | K7: =IF(D11=0,0,D7/D11) -> 0.34
A8: 机电顾问／系统商 | B8: =SUMIFS(年单明细!H$6:H$21,年单明细!$A$6:$A$21,"通道",年单明细!$D$6:$D$21,A8) -> 396 | C8: =SUMIFS(年单明细!I$6:I$21,年单明细!$A$6:$A$21,"通道",年单明细!$D$6:$D$21,A8) -> 1596 | D8: =SUMIFS(年单明细!J$6:J$21,年单明细!$A$6:$A$21,"通道",年单明细!$D$6:$D$21,A8) -> 2460 | E8: =SUMIFS(年单明细!K$6:K$21,年单明细!$A$6:$A$21,"通道",年单明细!$D$6:$D$21,A8) -> 3350 | F8: =SUMIFS(年单明细!L$6:L$21,年单明细!$A$6:$A$21,"通道",年单明细!$D$6:$D$21,A8) -> 4230 | G8: =SUMIFS(年单明细!M$6:M$21,年单明细!$A$6:$A$21,"通道",年单明细!$D$6:$D$21,A8) -> 5000 | H8: =SUMIFS(年单明细!N$6:N$21,年单明细!$A$6:$A$21,"通道",年单明细!$D$6:$D$21,A8) -> 5800 | I8: =SUMIFS(年单明细!O$6:O$21,年单明细!$A$6:$A$21,"通道",年单明细!$D$6:$D$21,A8) -> 6600 | J8: =SUM(B8:I8) -> 29432 | K8: =IF(D11=0,0,D8/D11) -> 0.1
A9: 区域运营商 | B9: =SUMIFS(年单明细!H$6:H$21,年单明细!$A$6:$A$21,"通道",年单明细!$D$6:$D$21,A9) -> 0 | C9: =SUMIFS(年单明细!I$6:I$21,年单明细!$A$6:$A$21,"通道",年单明细!$D$6:$D$21,A9) -> 0 | D9: =SUMIFS(年单明细!J$6:J$21,年单明细!$A$6:$A$21,"通道",年单明细!$D$6:$D$21,A9) -> 0 | E9: =SUMIFS(年单明细!K$6:K$21,年单明细!$A$6:$A$21,"通道",年单明细!$D$6:$D$21,A9) -> 0 | F9: =SUMIFS(年单明细!L$6:L$21,年单明细!$A$6:$A$21,"通道",年单明细!$D$6:$D$21,A9) -> 0 | G9: =SUMIFS(年单明细!M$6:M$21,年单明细!$A$6:$A$21,"通道",年单明细!$D$6:$D$21,A9) -> 0 | H9: =SUMIFS(年单明细!N$6:N$21,年单明细!$A$6:$A$21,"通道",年单明细!$D$6:$D$21,A9) -> 0 | I9: =SUMIFS(年单明细!O$6:O$21,年单明细!$A$6:$A$21,"通道",年单明细!$D$6:$D$21,A9) -> 0 | J9: =SUM(B9:I9) -> 0 | K9: =IF(D11=0,0,D9/D11) -> 0
A10: 产业园区开发商 | B10: =SUMIFS(年单明细!H$6:H$21,年单明细!$A$6:$A$21,"通道",年单明细!$D$6:$D$21,A10) -> 264 | C10: =SUMIFS(年单明细!I$6:I$21,年单明细!$A$6:$A$21,"通道",年单明细!$D$6:$D$21,A10) -> 1064 | D10: =SUMIFS(年单明细!J$6:J$21,年单明细!$A$6:$A$21,"通道",年单明细!$D$6:$D$21,A10) -> 984 | E10: =SUMIFS(年单明细!K$6:K$21,年单明细!$A$6:$A$21,"通道",年单明细!$D$6:$D$21,A10) -> 1340 | F10: =SUMIFS(年单明细!L$6:L$21,年单明细!$A$6:$A$21,"通道",年单明细!$D$6:$D$21,A10) -> 1692 | G10: =SUMIFS(年单明细!M$6:M$21,年单明细!$A$6:$A$21,"通道",年单明细!$D$6:$D$21,A10) -> 2000 | H10: =SUMIFS(年单明细!N$6:N$21,年单明细!$A$6:$A$21,"通道",年单明细!$D$6:$D$21,A10) -> 2320 | I10: =SUMIFS(年单明细!O$6:O$21,年单明细!$A$6:$A$21,"通道",年单明细!$D$6:$D$21,A10) -> 2640 | J10: =SUM(B10:I10) -> 12304 | K10: =IF(D11=0,0,D10/D11) -> 0.04
A11: 小计 | B11: =SUM(B6:B10) -> 3300 | C11: =SUM(C6:C10) -> 13300 | D11: =SUM(D6:D10) -> 24600 | E11: =SUM(E6:E10) -> 33500 | F11: =SUM(F6:F10) -> 42300 | G11: =SUM(G6:G10) -> 50000 | H11: =SUM(H6:H10) -> 58000 | I11: =SUM(I6:I10) -> 66000 | J11: =SUM(J6:J10) -> 291000 | K11: =IF(D11=0,0,D11/D11) -> 1
A14: 二、佳力图海外自营（可归因切片）
A15: 客户类型 | B15: 第 1 年 | C15: 第 2 年 | D15: 第 3 年 | E15: 第 4 年 | F15: 第 5 年 | G15: 第 6 年 | H15: 第 7 年 | I15: 第 8 年 | J15: 8 年累计 | K15: 第 3 年占比
A16: 数据中心开发商 | B16: =SUMIFS(年单明细!H$6:H$21,年单明细!$A$6:$A$21,"自营",年单明细!$D$6:$D$21,A16) -> 110 | C16: =SUMIFS(年单明细!I$6:I$21,年单明细!$A$6:$A$21,"自营",年单明细!$D$6:$D$21,A16) -> 484 | D16: =SUMIFS(年单明细!J$6:J$21,年单明细!$A$6:$A$21,"自营",年单明细!$D$6:$D$21,A16) -> 840 | E16: =SUMIFS(年单明细!K$6:K$21,年单明细!$A$6:$A$21,"自营",年单明细!$D$6:$D$21,A16) -> 1280 | F16: =SUMIFS(年单明细!L$6:L$21,年单明细!$A$6:$A$21,"自营",年单明细!$D$6:$D$21,A16) -> 1720 | G16: =SUMIFS(年单明细!M$6:M$21,年单明细!$A$6:$A$21,"自营",年单明细!$D$6:$D$21,A16) -> 2040 | H16: =SUMIFS(年单明细!N$6:N$21,年单明细!$A$6:$A$21,"自营",年单明细!$D$6:$D$21,A16) -> 2360 | I16: =SUMIFS(年单明细!O$6:O$21,年单明细!$A$6:$A$21,"自营",年单明细!$D$6:$D$21,A16) -> 2680 | J16: =SUM(B16:I16) -> 11514 | K16: =IF(D21=0,0,D16/D21) -> 0.2
A17: 工程总承包方 | B17: =SUMIFS(年单明细!H$6:H$21,年单明细!$A$6:$A$21,"自营",年单明细!$D$6:$D$21,A17) -> 80 | C17: =SUMIFS(年单明细!I$6:I$21,年单明细!$A$6:$A$21,"自营",年单明细!$D$6:$D$21,A17) -> 352 | D17: =SUMIFS(年单明细!J$6:J$21,年单明细!$A$6:$A$21,"自营",年单明细!$D$6:$D$21,A17) -> 420 | E17: =SUMIFS(年单明细!K$6:K$21,年单明细!$A$6:$A$21,"自营",年单明细!$D$6:$D$21,A17) -> 640 | F17: =SUMIFS(年单明细!L$6:L$21,年单明细!$A$6:$A$21,"自营",年单明细!$D$6:$D$21,A17) -> 860 | G17: =SUMIFS(年单明细!M$6:M$21,年单明细!$A$6:$A$21,"自营",年单明细!$D$6:$D$21,A17) -> 1020 | H17: =SUMIFS(年单明细!N$6:N$21,年单明细!$A$6:$A$21,"自营",年单明细!$D$6:$D$21,A17) -> 1180 | I17: =SUMIFS(年单明细!O$6:O$21,年单明细!$A$6:$A$21,"自营",年单明细!$D$6:$D$21,A17) -> 1340 | J17: =SUM(B17:I17) -> 5892 | K17: =IF(D21=0,0,D17/D21) -> 0.1
A18: 机电顾问／系统商 | B18: =SUMIFS(年单明细!H$6:H$21,年单明细!$A$6:$A$21,"自营",年单明细!$D$6:$D$21,A18) -> 160 | C18: =SUMIFS(年单明细!I$6:I$21,年单明细!$A$6:$A$21,"自营",年单明细!$D$6:$D$21,A18) -> 704 | D18: =SUMIFS(年单明细!J$6:J$21,年单明细!$A$6:$A$21,"自营",年单明细!$D$6:$D$21,A18) -> 2016 | E18: =SUMIFS(年单明细!K$6:K$21,年单明细!$A$6:$A$21,"自营",年单明细!$D$6:$D$21,A18) -> 3072 | F18: =SUMIFS(年单明细!L$6:L$21,年单明细!$A$6:$A$21,"自营",年单明细!$D$6:$D$21,A18) -> 4128 | G18: =SUMIFS(年单明细!M$6:M$21,年单明细!$A$6:$A$21,"自营",年单明细!$D$6:$D$21,A18) -> 4896 | H18: =SUMIFS(年单明细!N$6:N$21,年单明细!$A$6:$A$21,"自营",年单明细!$D$6:$D$21,A18) -> 5664 | I18: =SUMIFS(年单明细!O$6:O$21,年单明细!$A$6:$A$21,"自营",年单明细!$D$6:$D$21,A18) -> 6432 | J18: =SUM(B18:I18) -> 27072 | K18: =IF(D21=0,0,D18/D21) -> 0.48
A19: 区域运营商 | B19: =SUMIFS(年单明细!H$6:H$21,年单明细!$A$6:$A$21,"自营",年单明细!$D$6:$D$21,A19) -> 90 | C19: =SUMIFS(年单明细!I$6:I$21,年单明细!$A$6:$A$21,"自营",年单明细!$D$6:$D$21,A19) -> 396 | D19: =SUMIFS(年单明细!J$6:J$21,年单明细!$A$6:$A$21,"自营",年单明细!$D$6:$D$21,A19) -> 588 | E19: =SUMIFS(年单明细!K$6:K$21,年单明细!$A$6:$A$21,"自营",年单明细!$D$6:$D$21,A19) -> 896 | F19: =SUMIFS(年单明细!L$6:L$21,年单明细!$A$6:$A$21,"自营",年单明细!$D$6:$D$21,A19) -> 1204 | G19: =SUMIFS(年单明细!M$6:M$21,年单明细!$A$6:$A$21,"自营",年单明细!$D$6:$D$21,A19) -> 1428 | H19: =SUMIFS(年单明细!N$6:N$21,年单明细!$A$6:$A$21,"自营",年单明细!$D$6:$D$21,A19) -> 1652 | I19: =SUMIFS(年单明细!O$6:O$21,年单明细!$A$6:$A$21,"自营",年单明细!$D$6:$D$21,A19) -> 1876 | J19: =SUM(B19:I19) -> 8130 | K19: =IF(D21=0,0,D19/D21) -> 0.14
A20: 产业园区开发商 | B20: =SUMIFS(年单明细!H$6:H$21,年单明细!$A$6:$A$21,"自营",年单明细!$D$6:$D$21,A20) -> 60 | C20: =SUMIFS(年单明细!I$6:I$21,年单明细!$A$6:$A$21,"自营",年单明细!$D$6:$D$21,A20) -> 264 | D20: =SUMIFS(年单明细!J$6:J$21,年单明细!$A$6:$A$21,"自营",年单明细!$D$6:$D$21,A20) -> 336 | E20: =SUMIFS(年单明细!K$6:K$21,年单明细!$A$6:$A$21,"自营",年单明细!$D$6:$D$21,A20) -> 512 | F20: =SUMIFS(年单明细!L$6:L$21,年单明细!$A$6:$A$21,"自营",年单明细!$D$6:$D$21,A20) -> 688 | G20: =SUMIFS(年单明细!M$6:M$21,年单明细!$A$6:$A$21,"自营",年单明细!$D$6:$D$21,A20) -> 816 | H20: =SUMIFS(年单明细!N$6:N$21,年单明细!$A$6:$A$21,"自营",年单明细!$D$6:$D$21,A20) -> 944 | I20: =SUMIFS(年单明细!O$6:O$21,年单明细!$A$6:$A$21,"自营",年单明细!$D$6:$D$21,A20) -> 1072 | J20: =SUM(B20:I20) -> 4692 | K20: =IF(D21=0,0,D20/D21) -> 0.08
A21: 小计 | B21: =SUM(B16:B20) -> 500 | C21: =SUM(C16:C20) -> 2200 | D21: =SUM(D16:D20) -> 4200 | E21: =SUM(E16:E20) -> 6400 | F21: =SUM(F16:F20) -> 8600 | G21: =SUM(G16:G20) -> 10200 | H21: =SUM(H16:H20) -> 11800 | I21: =SUM(I16:I20) -> 13400 | J21: =SUM(J16:J20) -> 57300 | K21: =IF(D21=0,0,D21/D21) -> 1
A24: 三、通道 + 自营（仅供对照；利润仍按总表口径，不按本表加总重算 IRR）
A25: 客户类型 | B25: 第 1 年 | C25: 第 2 年 | D25: 第 3 年 | E25: 第 4 年 | F25: 第 5 年 | G25: 第 6 年 | H25: 第 7 年 | I25: 第 8 年 | J25: 8 年累计 | K25: 第 3 年占比
A26: 数据中心开发商 | B26: =B6+B16 -> 968 | C26: =C6+C16 -> 3942 | D26: =D6+D16 -> 13632 | E26: =E6+E16 -> 18700 | F26: =F6+F16 -> 23716 | G26: =G6+G16 -> 28040 | H26: =H6+H16 -> 32520 | I26: =I6+I16 -> 37000 | J26: =J6+J16 -> 158518 | K26: =IF(D31=0,0,D26/D31) -> 0.47333333
A27: 工程总承包方 | B27: =B7+B17 -> 1862 | C27: =C7+C17 -> 7534 | D27: =D7+D17 -> 8784 | E27: =E7+E17 -> 12030 | F27: =F7+F17 -> 15242 | G27: =G7+G17 -> 18020 | H27: =H7+H17 -> 20900 | I27: =I7+I17 -> 23780 | J27: =J7+J17 -> 108152 | K27: =IF(D31=0,0,D27/D31) -> 0.305
A28: 机电顾问／系统商 | B28: =B8+B18 -> 556 | C28: =C8+C18 -> 2300 | D28: =D8+D18 -> 4476 | E28: =E8+E18 -> 6422 | F28: =F8+F18 -> 8358 | G28: =G8+G18 -> 9896 | H28: =H8+H18 -> 11464 | I28: =I8+I18 -> 13032 | J28: =J8+J18 -> 56504 | K28: =IF(D31=0,0,D28/D31) -> 0.15541667
A29: 区域运营商 | B29: =B9+B19 -> 90 | C29: =C9+C19 -> 396 | D29: =D9+D19 -> 588 | E29: =E9+E19 -> 896 | F29: =F9+F19 -> 1204 | G29: =G9+G19 -> 1428 | H29: =H9+H19 -> 1652 | I29: =I9+I19 -> 1876 | J29: =J9+J19 -> 8130 | K29: =IF(D31=0,0,D29/D31) -> 0.020416667
A30: 产业园区开发商 | B30: =B10+B20 -> 324 | C30: =C10+C20 -> 1328 | D30: =D10+D20 -> 1320 | E30: =E10+E20 -> 1852 | F30: =F10+F20 -> 2380 | G30: =G10+G20 -> 2816 | H30: =H10+H20 -> 3264 | I30: =I10+I20 -> 3712 | J30: =J10+J20 -> 16996 | K30: =IF(D31=0,0,D30/D31) -> 0.045833333
A31: 合计 | B31: =SUM(B26:B30) -> 3800 | C31: =SUM(C26:C30) -> 15500 | D31: =SUM(D26:D30) -> 28800 | E31: =SUM(E26:E30) -> 39900 | F31: =SUM(F26:F30) -> 50900 | G31: =SUM(G26:G30) -> 60200 | H31: =SUM(H26:H30) -> 69800 | I31: =SUM(I26:I30) -> 79400 | J31: =SUM(J26:J30) -> 348300 | K31: =1 -> 1
A33: 第 3 年列（浅底）即锁定年框的结构。改「年单明细」E/F 列后本表自动刷新。

Sheet 产品结构
A1: 佳力图自产温控 · 产品线结构（按场景）
A2: 结构占该场景自产，不占系统合同额。已按海湾液冷份额上升、国际在位商仍占房间级重切：智算以液冷为主，新建机房提高液冷与冷站，房间级不作为与国际品牌对打的主力。机房系统交付不是第四条产品线。
A4: 一、各场景的自产产品结构
A5: 场景 | B5: 精密空调 | C5: 液冷 | D5: 智能冷站与微模块 | E5: 合计 | F5: 判定 | G5: 说明
A6: 高温智算液冷机房 | B6: 0.18 | C6: 0.64 | D6: 0.18 | E6: =B6+C6+D6 -> 1 | F6: =IF(ABS(E6-1)<0.001,"齐","未对齐") -> 齐 | G6: 海湾智算以液冷为主，精密空调作房间级备份
A7: 新建数据中心精密空调 | B7: 0.48 | C7: 0.32 | D7: 0.2 | E7: =B7+C7+D7 -> 1 | F7: =IF(ABS(E7-1)<0.001,"齐","未对齐") -> 齐 | G7: 列间／房间级基本盘，液冷与冷站随功率密度上升
A8: 商业综合体机房 | B8: 0.62 | C8: 0.16 | D8: 0.22 | E8: =B8+C8+D8 -> 1 | F8: =IF(ABS(E8-1)<0.001,"齐","未对齐") -> 齐 | G8: 以精密空调为主，冷站随项目打包
A9: 产业园区标准机房 | B9: 0.68 | C9: 0.12 | D9: 0.2 | E9: =B9+C9+D9 -> 1 | F9: =IF(ABS(E9-1)<0.001,"齐","未对齐") -> 齐 | G9: 标准机复制，液冷占比较低
A10: 集装箱液冷／预制冷站 | B10: 0.08 | C10: 0.52 | D10: 0.4 | E10: =B10+C10+D10 -> 1 | F10: =IF(ABS(E10-1)<0.001,"齐","未对齐") -> 齐 | G10: 集装箱液冷与预制冷站为主，精密空调只作接口配套
A12: 二、口径
A13: 1. 上表只拆自产温控。通道系统年单中约 38% 为自产（假设!B9），其余为系统集成供货，不计入产品线。 2. 海外自营切片全部视为佳力图产品收入，按同一场景结构拆到三条产品线。 3. 行顺序须与「按场景」一致，便于核对；公式用 MATCH 按场景名称取数，改名称须两表同时改。 4. 改本表黄底后，「按产品线」自动刷新。协同利润与 IRR 仍按总表，不按产品线重算。

Sheet 按产品线
A1: 基准 · 按佳力图产品线汇总
A2: 精密空调、液冷、智能冷站与微模块为产品线。系统集成供货是交付口径，不是第四条产品线。通道自产 = 该场景通道年单 × 自产占比 × 产品结构；自营按场景结构全额计入产品线。
A4: 一、胜阳山通道 · 自产温控（合同额 × 自产占比 × 产品结构）
A5: 产品线 | B5: 第 1 年 | C5: 第 2 年 | D5: 第 3 年 | E5: 第 4 年 | F5: 第 5 年 | G5: 第 6 年 | H5: 第 7 年 | I5: 第 8 年 | J5: 8 年累计 | K5: 第 3 年占比
A6: 精密空调 | B6: =ROUND(按场景!B6*假设!B49*INDEX(产品结构!$B$6:$B$10,MATCH(按场景!$A6,产品结构!$A$6:$A$10,0)),0)+ROUND(按场景!B7*假设!B49*INDEX(产品结构!$B$6:$B$10,MATCH(按场景!$A7,产品结构!$A$6:$A$10,0)),0)+ROUND(按场景!B8*假设!B49*INDEX(产品结构!$B$6:$B$10,MATCH(按场景!$A8,产品结构!$A$6:$A$10,0)),0)+ROUND(按场景!B9*假设!B49*INDEX(产品结构!$B$6:$B$10,MATCH(按场景!$A9,产品结构!$A$6:$A$10,0)),0)+ROUND(按场景!B10*假设!B49*INDEX(产品结构!$B$6:$B$10,MATCH(按场景!$A10,产品结构!$A$6:$A$10,0)),0) -> 441 | C6: =ROUND(按场景!C6*假设!C49*INDEX(产品结构!$B$6:$B$10,MATCH(按场景!$A6,产品结构!$A$6:$A$10,0)),0)+ROUND(按场景!C7*假设!C49*INDEX(产品结构!$B$6:$B$10,MATCH(按场景!$A7,产品结构!$A$6:$A$10,0)),0)+ROUND(按场景!C8*假设!C49*INDEX(产品结构!$B$6:$B$10,MATCH(按场景!$A8,产品结构!$A$6:$A$10,0)),0)+ROUND(按场景!C9*假设!C49*INDEX(产品结构!$B$6:$B$10,MATCH(按场景!$A9,产品结构!$A$6:$A$10,0)),0)+ROUND(按场景!C10*假设!C49*INDEX(产品结构!$B$6:$B$10,MATCH(按场景!$A10,产品结构!$A$6:$A$10,0)),0) -> 1876 | D6: =ROUND(按场景!D6*假设!D49*INDEX(产品结构!$B$6:$B$10,MATCH(按场景!$A6,产品结构!$A$6:$A$10,0)),0)+ROUND(按场景!D7*假设!D49*INDEX(产品结构!$B$6:$B$10,MATCH(按场景!$A7,产品结构!$A$6:$A$10,0)),0)+ROUND(按场景!D8*假设!D49*INDEX(产品结构!$B$6:$B$10,MATCH(按场景!$A8,产品结构!$A$6:$A$10,0)),0)+ROUND(按场景!D9*假设!D49*INDEX(产品结构!$B$6:$B$10,MATCH(按场景!$A9,产品结构!$A$6:$A$10,0)),0)+ROUND(按场景!D10*假设!D49*INDEX(产品结构!$B$6:$B$10,MATCH(按场景!$A10,产品结构!$A$6:$A$10,0)),0) -> 2966 | E6: =ROUND(按场景!E6*假设!E49*INDEX(产品结构!$B$6:$B$10,MATCH(按场景!$A6,产品结构!$A$6:$A$10,0)),0)+ROUND(按场景!E7*假设!E49*INDEX(产品结构!$B$6:$B$10,MATCH(按场景!$A7,产品结构!$A$6:$A$10,0)),0)+ROUND(按场景!E8*假设!E49*INDEX(产品结构!$B$6:$B$10,MATCH(按场景!$A8,产品结构!$A$6:$A$10,0)),0)+ROUND(按场景!E9*假设!E49*INDEX(产品结构!$B$6:$B$10,MATCH(按场景!$A9,产品结构!$A$6:$A$10,0)),0)+ROUND(按场景!E10*假设!E49*INDEX(产品结构!$B$6:$B$10,MATCH(按场景!$A10,产品结构!$A$6:$A$10,0)),0) -> 4250 | F6: =ROUND(按场景!F6*假设!F49*INDEX(产品结构!$B$6:$B$10,MATCH(按场景!$A6,产品结构!$A$6:$A$10,0)),0)+ROUND(按场景!F7*假设!F49*INDEX(产品结构!$B$6:$B$10,MATCH(按场景!$A7,产品结构!$A$6:$A$10,0)),0)+ROUND(按场景!F8*假设!F49*INDEX(产品结构!$B$6:$B$10,MATCH(按场景!$A8,产品结构!$A$6:$A$10,0)),0)+ROUND(按场景!F9*假设!F49*INDEX(产品结构!$B$6:$B$10,MATCH(按场景!$A9,产品结构!$A$6:$A$10,0)),0)+ROUND(按场景!F10*假设!F49*INDEX(产品结构!$B$6:$B$10,MATCH(按场景!$A10,产品结构!$A$6:$A$10,0)),0) -> 5635 | G6: =ROUND(按场景!G6*假设!G49*INDEX(产品结构!$B$6:$B$10,MATCH(按场景!$A6,产品结构!$A$6:$A$10,0)),0)+ROUND(按场景!G7*假设!G49*INDEX(产品结构!$B$6:$B$10,MATCH(按场景!$A7,产品结构!$A$6:$A$10,0)),0)+ROUND(按场景!G8*假设!G49*INDEX(产品结构!$B$6:$B$10,MATCH(按场景!$A8,产品结构!$A$6:$A$10,0)),0)+ROUND(按场景!G9*假设!G49*INDEX(产品结构!$B$6:$B$10,MATCH(按场景!$A9,产品结构!$A$6:$A$10,0)),0)+ROUND(按场景!G10*假设!G49*INDEX(产品结构!$B$6:$B$10,MATCH(按场景!$A10,产品结构!$A$6:$A$10,0)),0) -> 6819 | H6: =ROUND(按场景!H6*假设!H49*INDEX(产品结构!$B$6:$B$10,MATCH(按场景!$A6,产品结构!$A$6:$A$10,0)),0)+ROUND(按场景!H7*假设!H49*INDEX(产品结构!$B$6:$B$10,MATCH(按场景!$A7,产品结构!$A$6:$A$10,0)),0)+ROUND(按场景!H8*假设!H49*INDEX(产品结构!$B$6:$B$10,MATCH(按场景!$A8,产品结构!$A$6:$A$10,0)),0)+ROUND(按场景!H9*假设!H49*INDEX(产品结构!$B$6:$B$10,MATCH(按场景!$A9,产品结构!$A$6:$A$10,0)),0)+ROUND(按场景!H10*假设!H49*INDEX(产品结构!$B$6:$B$10,MATCH(按场景!$A10,产品结构!$A$6:$A$10,0)),0) -> 8095 | I6: =ROUND(按场景!I6*假设!I49*INDEX(产品结构!$B$6:$B$10,MATCH(按场景!$A6,产品结构!$A$6:$A$10,0)),0)+ROUND(按场景!I7*假设!I49*INDEX(产品结构!$B$6:$B$10,MATCH(按场景!$A7,产品结构!$A$6:$A$10,0)),0)+ROUND(按场景!I8*假设!I49*INDEX(产品结构!$B$6:$B$10,MATCH(按场景!$A8,产品结构!$A$6:$A$10,0)),0)+ROUND(按场景!I9*假设!I49*INDEX(产品结构!$B$6:$B$10,MATCH(按场景!$A9,产品结构!$A$6:$A$10,0)),0)+ROUND(按场景!I10*假设!I49*INDEX(产品结构!$B$6:$B$10,MATCH(按场景!$A10,产品结构!$A$6:$A$10,0)),0) -> 9211 | J6: =SUM(B6:I6) -> 39293 | K6: =IF(D9=0,0,D6/D9) -> 0.31721925
A7: 液冷 | B7: =ROUND(按场景!B6*假设!B49*INDEX(产品结构!$C$6:$C$10,MATCH(按场景!$A6,产品结构!$A$6:$A$10,0)),0)+ROUND(按场景!B7*假设!B49*INDEX(产品结构!$C$6:$C$10,MATCH(按场景!$A7,产品结构!$A$6:$A$10,0)),0)+ROUND(按场景!B8*假设!B49*INDEX(产品结构!$C$6:$C$10,MATCH(按场景!$A8,产品结构!$A$6:$A$10,0)),0)+ROUND(按场景!B9*假设!B49*INDEX(产品结构!$C$6:$C$10,MATCH(按场景!$A9,产品结构!$A$6:$A$10,0)),0)+ROUND(按场景!B10*假设!B49*INDEX(产品结构!$C$6:$C$10,MATCH(按场景!$A10,产品结构!$A$6:$A$10,0)),0) -> 439 | C7: =ROUND(按场景!C6*假设!C49*INDEX(产品结构!$C$6:$C$10,MATCH(按场景!$A6,产品结构!$A$6:$A$10,0)),0)+ROUND(按场景!C7*假设!C49*INDEX(产品结构!$C$6:$C$10,MATCH(按场景!$A7,产品结构!$A$6:$A$10,0)),0)+ROUND(按场景!C8*假设!C49*INDEX(产品结构!$C$6:$C$10,MATCH(按场景!$A8,产品结构!$A$6:$A$10,0)),0)+ROUND(按场景!C9*假设!C49*INDEX(产品结构!$C$6:$C$10,MATCH(按场景!$A9,产品结构!$A$6:$A$10,0)),0)+ROUND(按场景!C10*假设!C49*INDEX(产品结构!$C$6:$C$10,MATCH(按场景!$A10,产品结构!$A$6:$A$10,0)),0) -> 1874 | D7: =ROUND(按场景!D6*假设!D49*INDEX(产品结构!$C$6:$C$10,MATCH(按场景!$A6,产品结构!$A$6:$A$10,0)),0)+ROUND(按场景!D7*假设!D49*INDEX(产品结构!$C$6:$C$10,MATCH(按场景!$A7,产品结构!$A$6:$A$10,0)),0)+ROUND(按场景!D8*假设!D49*INDEX(产品结构!$C$6:$C$10,MATCH(按场景!$A8,产品结构!$A$6:$A$10,0)),0)+ROUND(按场景!D9*假设!D49*INDEX(产品结构!$C$6:$C$10,MATCH(按场景!$A9,产品结构!$A$6:$A$10,0)),0)+ROUND(按场景!D10*假设!D49*INDEX(产品结构!$C$6:$C$10,MATCH(按场景!$A10,产品结构!$A$6:$A$10,0)),0) -> 4316 | E7: =ROUND(按场景!E6*假设!E49*INDEX(产品结构!$C$6:$C$10,MATCH(按场景!$A6,产品结构!$A$6:$A$10,0)),0)+ROUND(按场景!E7*假设!E49*INDEX(产品结构!$C$6:$C$10,MATCH(按场景!$A7,产品结构!$A$6:$A$10,0)),0)+ROUND(按场景!E8*假设!E49*INDEX(产品结构!$C$6:$C$10,MATCH(按场景!$A8,产品结构!$A$6:$A$10,0)),0)+ROUND(按场景!E9*假设!E49*INDEX(产品结构!$C$6:$C$10,MATCH(按场景!$A9,产品结构!$A$6:$A$10,0)),0)+ROUND(按场景!E10*假设!E49*INDEX(产品结构!$C$6:$C$10,MATCH(按场景!$A10,产品结构!$A$6:$A$10,0)),0) -> 6186 | F7: =ROUND(按场景!F6*假设!F49*INDEX(产品结构!$C$6:$C$10,MATCH(按场景!$A6,产品结构!$A$6:$A$10,0)),0)+ROUND(按场景!F7*假设!F49*INDEX(产品结构!$C$6:$C$10,MATCH(按场景!$A7,产品结构!$A$6:$A$10,0)),0)+ROUND(按场景!F8*假设!F49*INDEX(产品结构!$C$6:$C$10,MATCH(按场景!$A8,产品结构!$A$6:$A$10,0)),0)+ROUND(按场景!F9*假设!F49*INDEX(产品结构!$C$6:$C$10,MATCH(按场景!$A9,产品结构!$A$6:$A$10,0)),0)+ROUND(按场景!F10*假设!F49*INDEX(产品结构!$C$6:$C$10,MATCH(按场景!$A10,产品结构!$A$6:$A$10,0)),0) -> 8200 | G7: =ROUND(按场景!G6*假设!G49*INDEX(产品结构!$C$6:$C$10,MATCH(按场景!$A6,产品结构!$A$6:$A$10,0)),0)+ROUND(按场景!G7*假设!G49*INDEX(产品结构!$C$6:$C$10,MATCH(按场景!$A7,产品结构!$A$6:$A$10,0)),0)+ROUND(按场景!G8*假设!G49*INDEX(产品结构!$C$6:$C$10,MATCH(按场景!$A8,产品结构!$A$6:$A$10,0)),0)+ROUND(按场景!G9*假设!G49*INDEX(产品结构!$C$6:$C$10,MATCH(按场景!$A9,产品结构!$A$6:$A$10,0)),0)+ROUND(按场景!G10*假设!G49*INDEX(产品结构!$C$6:$C$10,MATCH(按场景!$A10,产品结构!$A$6:$A$10,0)),0) -> 9924 | H7: =ROUND(按场景!H6*假设!H49*INDEX(产品结构!$C$6:$C$10,MATCH(按场景!$A6,产品结构!$A$6:$A$10,0)),0)+ROUND(按场景!H7*假设!H49*INDEX(产品结构!$C$6:$C$10,MATCH(按场景!$A7,产品结构!$A$6:$A$10,0)),0)+ROUND(按场景!H8*假设!H49*INDEX(产品结构!$C$6:$C$10,MATCH(按场景!$A8,产品结构!$A$6:$A$10,0)),0)+ROUND(按场景!H9*假设!H49*INDEX(产品结构!$C$6:$C$10,MATCH(按场景!$A9,产品结构!$A$6:$A$10,0)),0)+ROUND(按场景!H10*假设!H49*INDEX(产品结构!$C$6:$C$10,MATCH(按场景!$A10,产品结构!$A$6:$A$10,0)),0) -> 11780 | I7: =ROUND(按场景!I6*假设!I49*INDEX(产品结构!$C$6:$C$10,MATCH(按场景!$A6,产品结构!$A$6:$A$10,0)),0)+ROUND(按场景!I7*假设!I49*INDEX(产品结构!$C$6:$C$10,MATCH(按场景!$A7,产品结构!$A$6:$A$10,0)),0)+ROUND(按场景!I8*假设!I49*INDEX(产品结构!$C$6:$C$10,MATCH(按场景!$A8,产品结构!$A$6:$A$10,0)),0)+ROUND(按场景!I9*假设!I49*INDEX(产品结构!$C$6:$C$10,MATCH(按场景!$A9,产品结构!$A$6:$A$10,0)),0)+ROUND(按场景!I10*假设!I49*INDEX(产品结构!$C$6:$C$10,MATCH(按场景!$A10,产品结构!$A$6:$A$10,0)),0) -> 13405 | J7: =SUM(B7:I7) -> 56124 | K7: =IF(D9=0,0,D7/D9) -> 0.46160428
